BEGIN:VCALENDAR
VERSION:2.0
PRODID:-//Pebble Bay Club - Waterfront Lodging and Grille - ECPv6.15.17.1//NONSGML v1.0//EN
CALSCALE:GREGORIAN
METHOD:PUBLISH
X-ORIGINAL-URL:https://www.pebblebayclub.com
X-WR-CALDESC:Events for Pebble Bay Club - Waterfront Lodging and Grille
REFRESH-INTERVAL;VALUE=DURATION:PT1H
X-Robots-Tag:noindex
X-PUBLISHED-TTL:PT1H
BEGIN:VTIMEZONE
TZID:UTC
BEGIN:STANDARD
TZOFFSETFROM:+0000
TZOFFSETTO:+0000
TZNAME:UTC
DTSTART:20240101T000000
END:STANDARD
END:VTIMEZONE
BEGIN:VEVENT
DTSTART;VALUE=DATE:20250301
DTEND;VALUE=DATE:20250302
DTSTAMP:20260419T125542
CREATED:20250224T182911Z
LAST-MODIFIED:20250224T203758Z
UID:2177-1740787200-1740873599@www.pebblebayclub.com
SUMMARY:Pebble Bay Club Presents: Laissez Les Bons Temps Rouler
DESCRIPTION:Or\, let the good times roll!\nThis Mardi Gras weekend (Saturday\, March 1st; Sunday\, March 2nd; Monday; March 3rd)  enjoy the celebrations fit for kings at the Pebble Bay Club! \nThree days full of New Orleans cuisine and signature drinks. And lots and lots of beads! \n 
URL:https://www.pebblebayclub.com/event/pebble-bay-club-presents-laissez-les-bons-temps-rouler-2/
LOCATION:Pebble Bay Club Grill\, 100 Pebble Bay Club Drive\, Camdenton\, MO\, 65020\, United States
CATEGORIES:Holiday Event
ATTACH;FMTTYPE=image/jpeg:https://www.pebblebayclub.com/wp-content/uploads/Mardi-Gras-flyers-2025.jpeg
ORGANIZER;CN="Pebble Bay  Club":MAILTO:info@pebblebayclub.com
END:VEVENT
BEGIN:VEVENT
DTSTART;VALUE=DATE:20250302
DTEND;VALUE=DATE:20250303
DTSTAMP:20260419T125542
CREATED:20250224T183053Z
LAST-MODIFIED:20250224T203612Z
UID:2179-1740873600-1740959999@www.pebblebayclub.com
SUMMARY:Pebble Bay Club Presents: Laissez Les Bons Temps Rouler
DESCRIPTION:Or\, let the good times roll!\nThis Mardi Gras weekend (Saturday\, March 1st; Sunday\, March 2nd; Monday; March 3rd)  enjoy the celebrations fit for kings at the Pebble Bay Club! \nThree days full of New Orleans cuisine and signature drinks. And lots and lots of beads! \n 
URL:https://www.pebblebayclub.com/event/pebble-bay-club-presents-laissez-les-bons-temps-rouler-3/
LOCATION:Pebble Bay Club Grill\, 100 Pebble Bay Club Drive\, Camdenton\, MO\, 65020\, United States
CATEGORIES:Holiday Event
ATTACH;FMTTYPE=image/jpeg:https://www.pebblebayclub.com/wp-content/uploads/Mardi-Gras-flyers-2025.jpeg
ORGANIZER;CN="Pebble Bay  Club":MAILTO:info@pebblebayclub.com
END:VEVENT
BEGIN:VEVENT
DTSTART;VALUE=DATE:20250303
DTEND;VALUE=DATE:20250304
DTSTAMP:20260419T125542
CREATED:20250224T203542Z
LAST-MODIFIED:20250224T203549Z
UID:2194-1740960000-1741046399@www.pebblebayclub.com
SUMMARY:Pebble Bay Club Presents: Laissez Les Bons Temps Rouler
DESCRIPTION:Or\, let the good times roll!\nThis Mardi Gras weekend (Saturday\, March 1st; Sunday\, March 2nd; Monday; March 3rd)  enjoy the celebrations fit for kings at the Pebble Bay Club! \nThree days full of New Orleans cuisine and signature drinks. And lots and lots of beads!
URL:https://www.pebblebayclub.com/event/pebble-bay-club-presents-laissez-les-bons-temps-rouler-4/
LOCATION:Pebble Bay Club Grill\, 100 Pebble Bay Club Drive\, Camdenton\, MO\, 65020\, United States
CATEGORIES:Holiday Event
ATTACH;FMTTYPE=image/jpeg:https://www.pebblebayclub.com/wp-content/uploads/Mardi-Gras-flyers-2025.jpeg
ORGANIZER;CN="Pebble Bay  Club":MAILTO:info@pebblebayclub.com
END:VEVENT
BEGIN:VEVENT
DTSTART;TZID=UTC:20250307T170000
DTEND;TZID=UTC:20250307T210000
DTSTAMP:20260419T125542
CREATED:20250224T222422Z
LAST-MODIFIED:20250224T222422Z
UID:2201-1741366800-1741381200@www.pebblebayclub.com
SUMMARY:20 Lake Pros You Should Know: Round 2
DESCRIPTION:On Friday\, March 7\,  at 5 p.m.\, our second round of honorees will gather to present their goals for success and how their business thrives at the lake. Network with your local business professionals and get to know the people that make the Lake of the Ozarks a joy to work with.
URL:https://www.pebblebayclub.com/event/20-lake-pros-you-should-know-round-2/
LOCATION:Pebble Bay Club Grill\, 100 Pebble Bay Club Drive\, Camdenton\, MO\, 65020\, United States
CATEGORIES:Networking
ATTACH;FMTTYPE=image/png:https://www.pebblebayclub.com/wp-content/uploads/20-Lake-Pros-ad-March-7-1.png
ORGANIZER;CN="Pebble Bay  Club":MAILTO:info@pebblebayclub.com
END:VEVENT
BEGIN:VEVENT
DTSTART;VALUE=DATE:20250315
DTEND;VALUE=DATE:20250316
DTSTAMP:20260419T125542
CREATED:20250225T193903Z
LAST-MODIFIED:20250225T193903Z
UID:2204-1741996800-1742083199@www.pebblebayclub.com
SUMMARY:Pebble Bay Club St. Patty's Golf Cart Parade
DESCRIPTION:On Saturday\, March 15th\, enjoy the first Pebble Bay Club Golf Cart Parade. Decorate your cart and register to enter the parade and show off your patty’s pride. To enter the parade as a contestant\, please provide us with some of your information below. \nEmail Address *First Name *PhoneSUBMIT\nThe following Sunday\, March 16th and Monday\, March 17th will feature delicious corned beef & cabbage at Pebble Bay Club Grill. Guinness\, Jameson and Irish Coffee drink specials will also be available. Irish breakfast will be served on March 15th\, 16th and 17th. 😋
URL:https://www.pebblebayclub.com/event/pebble-bay-club-st-pattys-golf-cart-parade/
LOCATION:Pebble Bay Club Grill\, 100 Pebble Bay Club Drive\, Camdenton\, MO\, 65020\, United States
CATEGORIES:Holiday Event
ATTACH;FMTTYPE=image/jpeg:https://www.pebblebayclub.com/wp-content/uploads/i-rHv3Pw-1.jpeg
ORGANIZER;CN="Pebble Bay  Club":MAILTO:info@pebblebayclub.com
END:VEVENT
BEGIN:VEVENT
DTSTART;VALUE=DATE:20250316
DTEND;VALUE=DATE:20250317
DTSTAMP:20260419T125542
CREATED:20250225T194449Z
LAST-MODIFIED:20250225T194815Z
UID:2209-1742083200-1742169599@www.pebblebayclub.com
SUMMARY:Pebble Bay Club Grill St. Patrick's Day Specials
DESCRIPTION:On Sunday\, March 16th and Monday\, March 17th\, Pebble Bay Club Grill will feature a specialty dish of corned beef & cabbage that tastes as good as gold! \nGuinness\, Jameson and Irish Coffee drinks will also be available. Irish breakfast will be served on March 16th and 17th. 😋
URL:https://www.pebblebayclub.com/event/pebble-bay-club-grill-st-patricks-day-specials/
LOCATION:Pebble Bay Club Grill\, 100 Pebble Bay Club Drive\, Camdenton\, MO\, 65020\, United States
CATEGORIES:Holiday Event
ATTACH;FMTTYPE=image/jpeg:https://www.pebblebayclub.com/wp-content/uploads/i-rHv3Pw-1.jpeg
ORGANIZER;CN="Pebble Bay  Club":MAILTO:info@pebblebayclub.com
END:VEVENT
BEGIN:VEVENT
DTSTART;VALUE=DATE:20250317
DTEND;VALUE=DATE:20250318
DTSTAMP:20260419T125542
CREATED:20250225T194812Z
LAST-MODIFIED:20250225T194812Z
UID:2211-1742169600-1742255999@www.pebblebayclub.com
SUMMARY:Pebble Bay Club Grill St. Patrick's Day Specials
DESCRIPTION:On Sunday\, March 16th and Monday\, March 17th\, Pebble Bay Club Grill will feature a specialty dish of corned beef & cabbage that tastes as good as gold! \nGuinness\, Jameson and Irish Coffee drinks will also be available. Irish breakfast will be served on March 16th and 17th
URL:https://www.pebblebayclub.com/event/pebble-bay-club-grill-st-patricks-day-specials-2/
LOCATION:Pebble Bay Club Grill\, 100 Pebble Bay Club Drive\, Camdenton\, MO\, 65020\, United States
CATEGORIES:Holiday Event
ATTACH;FMTTYPE=image/jpeg:https://www.pebblebayclub.com/wp-content/uploads/i-rHv3Pw-1.jpeg
ORGANIZER;CN="Pebble Bay  Club":MAILTO:info@pebblebayclub.com
END:VEVENT
BEGIN:VEVENT
DTSTART;TZID=UTC:20250320T163000
DTEND;TZID=UTC:20250320T170000
DTSTAMP:20260419T125542
CREATED:20250224T184218Z
LAST-MODIFIED:20250224T184718Z
UID:2185-1742488200-1742490000@www.pebblebayclub.com
SUMMARY:Pebble Bay Club Ribbon Cutting
DESCRIPTION:The Pebble Bay Club is proud to host the ribbon cutting ceremony which honors our introduction to the Camdenton\, MO Chamber of Commerce. \nJoin us for this special day and be sure to stick around after the ceremony for the Business After Business Networking Social from 5 p.m. to 7 p.m.
URL:https://www.pebblebayclub.com/event/pebble-bay-club-ribbon-cutting/
LOCATION:Pebble Bay Club Grill\, 100 Pebble Bay Club Drive\, Camdenton\, MO\, 65020\, United States
ATTACH;FMTTYPE=image/jpeg:https://www.pebblebayclub.com/wp-content/uploads/481246628_122168923604339553_7552102147345540789_n.jpg
ORGANIZER;CN="Pebble Bay  Club":MAILTO:info@pebblebayclub.com
END:VEVENT
BEGIN:VEVENT
DTSTART;TZID=UTC:20250320T170000
DTEND;TZID=UTC:20250320T190000
DTSTAMP:20260419T125542
CREATED:20250224T184654Z
LAST-MODIFIED:20250224T184654Z
UID:2188-1742490000-1742497200@www.pebblebayclub.com
SUMMARY:Business After Business Networking Social
DESCRIPTION:Camdenton Area Chamber Members and other local business members are invited to join us for our 1st Quarter Business After Business Networking social on Thursday\, March 20th from 5-7 p.m. at the Pebble Bay Club\, sponsored in part by LakeDays.Rentals. \nAttendees will enjoy complimentary appetizers\, cash bar\, and great networking with fellow business peers. Be sure to bring plenty of your business cards and we hope to see you then! \n**Also\, plan to arrive early and help us celebrate Pebble Bay Club and their membership to the Camdenton Area Chamber of Commerce. Join us for their ribbon-cutting ceremony taking place at 4:30pm\, just before the social!
URL:https://www.pebblebayclub.com/event/business-after-business-networking-social/
LOCATION:Pebble Bay Club Grill\, 100 Pebble Bay Club Drive\, Camdenton\, MO\, 65020\, United States
ATTACH;FMTTYPE=image/jpeg:https://www.pebblebayclub.com/wp-content/uploads/pbc-chamber-event.jpg
ORGANIZER;CN="Pebble Bay  Club":MAILTO:info@pebblebayclub.com
END:VEVENT
BEGIN:VEVENT
DTSTART;TZID=UTC:20250321T170000
DTEND;TZID=UTC:20250321T210000
DTSTAMP:20260419T125542
CREATED:20250116T203246Z
LAST-MODIFIED:20250116T203246Z
UID:2089-1742576400-1742590800@www.pebblebayclub.com
SUMMARY:Third Friday Karaoke Night
DESCRIPTION:
URL:https://www.pebblebayclub.com/event/third-friday-karaoke-night-3/
LOCATION:Pebble Bay Club Grill\, 100 Pebble Bay Club Drive\, Camdenton\, MO\, 65020\, United States
CATEGORIES:Karaoke
ATTACH;FMTTYPE=image/jpeg:https://www.pebblebayclub.com/wp-content/uploads/shutterstock_2420088051-scaled.jpg
ORGANIZER;CN="Pebble Bay  Club":MAILTO:info@pebblebayclub.com
END:VEVENT
END:VCALENDAR