BEGIN:VCALENDAR
VERSION:2.0
PRODID:-//Pebble Bay Club - Waterfront Lodging and Grille - ECPv6.15.17.1//NONSGML v1.0//EN
CALSCALE:GREGORIAN
METHOD:PUBLISH
X-ORIGINAL-URL:https://www.pebblebayclub.com
X-WR-CALDESC:Events for Pebble Bay Club - Waterfront Lodging and Grille
REFRESH-INTERVAL;VALUE=DURATION:PT1H
X-Robots-Tag:noindex
X-PUBLISHED-TTL:PT1H
BEGIN:VTIMEZONE
TZID:UTC
BEGIN:STANDARD
TZOFFSETFROM:+0000
TZOFFSETTO:+0000
TZNAME:UTC
DTSTART:20240101T000000
END:STANDARD
END:VTIMEZONE
BEGIN:VEVENT
DTSTART;TZID=UTC:20250617T160000
DTEND;TZID=UTC:20250617T200000
DTSTAMP:20260420T052935
CREATED:20250513T213214Z
LAST-MODIFIED:20250513T213214Z
UID:2339-1750176000-1750190400@www.pebblebayclub.com
SUMMARY:Kids Night @ Pebble Bay Club
DESCRIPTION:Every Tuesday from May 20th through August 19th is Kids Night at Pebble Bay Club. \nCornhole\, Pickleball\, Swimming\, Golf Putt and kids menu specials from 4:00 p.m. – 8 p.m.
URL:https://www.pebblebayclub.com/event/kids-night-pebble-bay-club-3/
LOCATION:Pebble Bay Club Grill\, 100 Pebble Bay Club Drive\, Camdenton\, MO\, 65020\, United States
ATTACH;FMTTYPE=image/jpeg:https://www.pebblebayclub.com/wp-content/uploads/MONTHLY-Kids-Nights.jpg
ORGANIZER;CN="Pebble Bay  Club":MAILTO:info@pebblebayclub.com
END:VEVENT
BEGIN:VEVENT
DTSTART;TZID=UTC:20250617T160000
DTEND;TZID=UTC:20250617T200000
DTSTAMP:20260420T052935
CREATED:20250513T213317Z
LAST-MODIFIED:20250513T213317Z
UID:2341-1750176000-1750190400@www.pebblebayclub.com
SUMMARY:Kids Night @ Pebble Bay Club
DESCRIPTION:Every Tuesday from May 20th through August 19th is Kids Night at Pebble Bay Club. \nCornhole\, Pickleball\, Swimming\, Golf Putt and kids menu specials from 4:00 p.m. – 8 p.m.
URL:https://www.pebblebayclub.com/event/kids-night-pebble-bay-club-4/
LOCATION:Pebble Bay Club Grill\, 100 Pebble Bay Club Drive\, Camdenton\, MO\, 65020\, United States
ATTACH;FMTTYPE=image/jpeg:https://www.pebblebayclub.com/wp-content/uploads/MONTHLY-Kids-Nights.jpg
ORGANIZER;CN="Pebble Bay  Club":MAILTO:info@pebblebayclub.com
END:VEVENT
BEGIN:VEVENT
DTSTART;TZID=UTC:20250621T150000
DTEND;TZID=UTC:20250621T180000
DTSTAMP:20260420T052935
CREATED:20250204T222858Z
LAST-MODIFIED:20250513T211253Z
UID:2123-1750518000-1750528800@www.pebblebayclub.com
SUMMARY:Live Music Performance: David Bennett
DESCRIPTION:Performance by David Bennett from 3 – 6 p.m. \nPebble Bay Club Grill will feature live music throughout all of 2025. Every Saturday from 3 p.m. to 6 p.m.\, enjoy your relaxing day and meal with renowned musicians who create a unique ambiance for your day at the lake. \nAll performances are subject to change\, please await updates on the digital calender or our social links. 
URL:https://www.pebblebayclub.com/event/live-music-performance-david-bennett-2/
LOCATION:Pebble Bay Club Grill\, 100 Pebble Bay Club Drive\, Camdenton\, MO\, 65020\, United States
CATEGORIES:Live Music
ATTACH;FMTTYPE=image/jpeg:https://www.pebblebayclub.com/wp-content/uploads/BENNETT-6-21.jpg
ORGANIZER;CN="Pebble Bay  Club":MAILTO:info@pebblebayclub.com
END:VEVENT
BEGIN:VEVENT
DTSTART;TZID=UTC:20250624T160000
DTEND;TZID=UTC:20250624T200000
DTSTAMP:20260420T052935
CREATED:20250513T213414Z
LAST-MODIFIED:20250513T213414Z
UID:2343-1750780800-1750795200@www.pebblebayclub.com
SUMMARY:Kids Night @ Pebble Bay Club
DESCRIPTION:Every Tuesday from May 20th through August 19th is Kids Night at Pebble Bay Club. \nCornhole\, Pickleball\, Swimming\, Golf Putt and kids menu specials from 4:00 p.m. – 8 p.m.
URL:https://www.pebblebayclub.com/event/kids-night-pebble-bay-club-5/
LOCATION:Pebble Bay Club Grill\, 100 Pebble Bay Club Drive\, Camdenton\, MO\, 65020\, United States
ATTACH;FMTTYPE=image/jpeg:https://www.pebblebayclub.com/wp-content/uploads/MONTHLY-Kids-Nights.jpg
ORGANIZER;CN="Pebble Bay  Club":MAILTO:info@pebblebayclub.com
END:VEVENT
BEGIN:VEVENT
DTSTART;TZID=UTC:20250628T150000
DTEND;TZID=UTC:20250628T180000
DTSTAMP:20260420T052935
CREATED:20250204T223027Z
LAST-MODIFIED:20250513T211414Z
UID:2125-1751122800-1751133600@www.pebblebayclub.com
SUMMARY:Live Music Performance: Drew Stevens
DESCRIPTION:Performance by Drew Stevens from 3 – 6 p.m. \nPebble Bay Club Grill will feature live music throughout all of 2025. Every Saturday from 3 p.m. to 6 p.m.\, enjoy your relaxing day and meal with renowned musicians who create a unique ambiance for your day at the lake. \nAll performances are subject to change\, please await updates on the digital calender or our social links. 
URL:https://www.pebblebayclub.com/event/live-music-performance-drew-stevens-2/
LOCATION:Pebble Bay Club Grill\, 100 Pebble Bay Club Drive\, Camdenton\, MO\, 65020\, United States
CATEGORIES:Live Music
ATTACH;FMTTYPE=image/jpeg:https://www.pebblebayclub.com/wp-content/uploads/DREW-B-6-28.jpg
ORGANIZER;CN="Pebble Bay  Club":MAILTO:info@pebblebayclub.com
END:VEVENT
BEGIN:VEVENT
DTSTART;TZID=UTC:20250703T170000
DTEND;TZID=UTC:20250703T200000
DTSTAMP:20260420T052935
CREATED:20250613T195722Z
LAST-MODIFIED:20250613T195722Z
UID:2368-1751562000-1751572800@www.pebblebayclub.com
SUMMARY:Karaoke Nights @ Pebble Bay Club
DESCRIPTION:Sing your heart out to your favorite tunes. Karaoke nights featuring Levi Chapman at the Pebble Bay Club Grill are perfect for dates or a fun outings with friends. 
URL:https://www.pebblebayclub.com/event/karaoke-nights-pebble-bay-club/
LOCATION:Pebble Bay Club Grill\, 100 Pebble Bay Club Drive\, Camdenton\, MO\, 65020\, United States
CATEGORIES:Karaoke
ATTACH;FMTTYPE=image/jpeg:https://www.pebblebayclub.com/wp-content/uploads/3-MONTHLY-KARAOKE-IG.jpg
ORGANIZER;CN="Pebble Bay  Club":MAILTO:info@pebblebayclub.com
END:VEVENT
BEGIN:VEVENT
DTSTART;VALUE=DATE:20250704
DTEND;VALUE=DATE:20250705
DTSTAMP:20260420T052935
CREATED:20250520T190306Z
LAST-MODIFIED:20250520T190306Z
UID:2358-1751587200-1751673599@www.pebblebayclub.com
SUMMARY:Independence Day Golf Cart Parade
DESCRIPTION:
URL:https://www.pebblebayclub.com/event/independence-day-golf-cart-parade/
LOCATION:Pebble Bay Club Grill\, 100 Pebble Bay Club Drive\, Camdenton\, MO\, 65020\, United States
CATEGORIES:Holiday Event
ORGANIZER;CN="Pebble Bay  Club":MAILTO:info@pebblebayclub.com
END:VEVENT
BEGIN:VEVENT
DTSTART;TZID=UTC:20250705T150000
DTEND;TZID=UTC:20250705T180000
DTSTAMP:20260420T052935
CREATED:20250204T223412Z
LAST-MODIFIED:20250513T211705Z
UID:2127-1751727600-1751738400@www.pebblebayclub.com
SUMMARY:Live Music Performance: David Bennett
DESCRIPTION:Performance by David Bennett from 3 – 6 p.m. \nPebble Bay Club Grill will feature live music throughout all of 2025. Every Saturday from 3 p.m. to 6 p.m.\, enjoy your relaxing day and meal with renowned musicians who create a unique ambiance for your day at the lake. \nAll performances are subject to change\, please await updates on the digital calender or our social links. 
URL:https://www.pebblebayclub.com/event/live-music-performance-david-bennett-3/
LOCATION:Pebble Bay Club Grill\, 100 Pebble Bay Club Drive\, Camdenton\, MO\, 65020\, United States
CATEGORIES:Live Music
ATTACH;FMTTYPE=image/jpeg:https://www.pebblebayclub.com/wp-content/uploads/BENNETT-7-5.jpg
ORGANIZER;CN="Pebble Bay  Club":MAILTO:info@pebblebayclub.com
END:VEVENT
BEGIN:VEVENT
DTSTART;TZID=UTC:20250710T170000
DTEND;TZID=UTC:20250710T200000
DTSTAMP:20260420T052935
CREATED:20250513T215806Z
LAST-MODIFIED:20250513T215806Z
UID:2353-1752166800-1752177600@www.pebblebayclub.com
SUMMARY:Bourbon & Cigar Experience
DESCRIPTION:Every second Thursday from April – December\, enjoy the Bourbon & Cigar Experience at Pebble Bay Club Speak Easy in partnership with Southern Cross Cigars. \nSelect bourbon and cigar specials apply.
URL:https://www.pebblebayclub.com/event/bourbon-cigar-experience-3/
LOCATION:Pebble Bay Club Grill\, 100 Pebble Bay Club Drive\, Camdenton\, MO\, 65020\, United States
ATTACH;FMTTYPE=image/jpeg:https://www.pebblebayclub.com/wp-content/uploads/2-THURSDAY-EVENTCIGARBourbon.jpg
ORGANIZER;CN="Pebble Bay  Club":MAILTO:info@pebblebayclub.com
END:VEVENT
BEGIN:VEVENT
DTSTART;TZID=UTC:20250712T150000
DTEND;TZID=UTC:20250712T180000
DTSTAMP:20260420T052935
CREATED:20250204T223546Z
LAST-MODIFIED:20250513T215210Z
UID:2129-1752332400-1752343200@www.pebblebayclub.com
SUMMARY:Live Music Performance: Levi Chapman
DESCRIPTION:Performance by Levi Chapman from 3 – 6 p.m. \nPebble Bay Club Grill will feature live music throughout all of 2025. Every Saturday from 3 p.m. to 6 p.m.\, enjoy your relaxing day and meal with renowned musicians who create a unique ambiance for your day at the lake. \nAll performances are subject to change\, please await updates on the digital calender or our social links. 
URL:https://www.pebblebayclub.com/event/live-music-performance-levi-chapman/
LOCATION:Pebble Bay Club Grill\, 100 Pebble Bay Club Drive\, Camdenton\, MO\, 65020\, United States
CATEGORIES:Live Music
ATTACH;FMTTYPE=image/jpeg:https://www.pebblebayclub.com/wp-content/uploads/7-12-LEVI.jpg
ORGANIZER;CN="Pebble Bay  Club":MAILTO:info@pebblebayclub.com
END:VEVENT
BEGIN:VEVENT
DTSTART;TZID=UTC:20250719T150000
DTEND;TZID=UTC:20250719T180000
DTSTAMP:20260420T052935
CREATED:20250204T223658Z
LAST-MODIFIED:20250513T215524Z
UID:2131-1752937200-1752948000@www.pebblebayclub.com
SUMMARY:Live Music Performance: Grayson Wood
DESCRIPTION:Performance by Grayson Wood from 3 – 6 p.m. \nPebble Bay Club Grill will feature live music throughout all of 2025. Every Saturday from 3 p.m. to 6 p.m.\, enjoy your relaxing day and meal with renowned musicians who create a unique ambiance for your day at the lake. \nAll performances are subject to change\, please await updates on the digital calender or our social links. 
URL:https://www.pebblebayclub.com/event/live-music-performance-grayson-wood-2/
LOCATION:Pebble Bay Club Grill\, 100 Pebble Bay Club Drive\, Camdenton\, MO\, 65020\, United States
CATEGORIES:Live Music
ATTACH;FMTTYPE=image/jpeg:https://www.pebblebayclub.com/wp-content/uploads/GRAYSON-WOOD-7-19.jpg
ORGANIZER;CN="Pebble Bay  Club":MAILTO:info@pebblebayclub.com
END:VEVENT
BEGIN:VEVENT
DTSTART;TZID=UTC:20250726T150000
DTEND;TZID=UTC:20250726T180000
DTSTAMP:20260420T052935
CREATED:20250204T223813Z
LAST-MODIFIED:20250724T153005Z
UID:2133-1753542000-1753552800@www.pebblebayclub.com
SUMMARY:Live Music Performance: James Clay
DESCRIPTION:Performance by James Clay from 5 – 8 p.m. \nPebble Bay Club Grill will feature live music throughout all of 2025. Every Saturday\, enjoy your relaxing day and meal with renowned musicians who create a unique ambiance for your day at the lake. \nAll performances are subject to change\, please await updates on the digital calendar or our social links. 
URL:https://www.pebblebayclub.com/event/live-music-performance-james-clay-2/
LOCATION:Pebble Bay Club Grill\, 100 Pebble Bay Club Drive\, Camdenton\, MO\, 65020\, United States
CATEGORIES:Live Music
ATTACH;FMTTYPE=image/jpeg:https://www.pebblebayclub.com/wp-content/uploads/White-Professional-Country-Music-A6-event-1.jpg
ORGANIZER;CN="Pebble Bay  Club":MAILTO:info@pebblebayclub.com
END:VEVENT
BEGIN:VEVENT
DTSTART;TZID=UTC:20250731T170000
DTEND;TZID=UTC:20250731T200000
DTSTAMP:20260420T052935
CREATED:20250723T210252Z
LAST-MODIFIED:20250723T210252Z
UID:2398-1753981200-1753992000@www.pebblebayclub.com
SUMMARY:Stand Up Open Mic Night feat: Jackie Newton
DESCRIPTION:The Pebble Bay Club presents its very own stand-up comedy open mic from 5 p.m. to 8 p.m. \nThe night will feature a special performance from Jackie Newton! Bring your zingers and be prepared for a night of laughs and goofs. \nAll performances are subject to change\, please await updates on the digital calendar or our social links.
URL:https://www.pebblebayclub.com/event/stand-up-open-mic-night-feat-jackie-newton/
LOCATION:Pebble Bay Club Grill\, 100 Pebble Bay Club Drive\, Camdenton\, MO\, 65020\, United States
CATEGORIES:Stand Up
ATTACH;FMTTYPE=image/jpeg:https://www.pebblebayclub.com/wp-content/uploads/Stand-Up-Comedy-Night-Flyer-1.jpg
ORGANIZER;CN="Pebble Bay  Club":MAILTO:info@pebblebayclub.com
END:VEVENT
BEGIN:VEVENT
DTSTART;TZID=UTC:20250802T120000
DTEND;TZID=UTC:20250802T210000
DTSTAMP:20260420T052935
CREATED:20250729T203749Z
LAST-MODIFIED:20250729T205251Z
UID:2441-1754136000-1754168400@www.pebblebayclub.com
SUMMARY:Big Island Day at Pebble Bay
DESCRIPTION:Pebble Bay Club is hosting its 2025 Neighbor Tour. We’re dedicating Saturday\, Aug. 2\, as the official Big Island Day. While others may attend\, know this day is dedicated to the Big Island community. We encourage you to bring your family\, neighbors and friends to join in the community celebration from noon – 9 PM.
URL:https://www.pebblebayclub.com/event/big-island-day-at-pebble-bay/
LOCATION:Pebble Bay Club Grill\, 100 Pebble Bay Club Drive\, Camdenton\, MO\, 65020\, United States
ATTACH;FMTTYPE=image/jpeg:https://www.pebblebayclub.com/wp-content/uploads/PBCNEIGHBORTOUR-1-1.jpg
ORGANIZER;CN="Pebble Bay  Club":MAILTO:info@pebblebayclub.com
END:VEVENT
BEGIN:VEVENT
DTSTART;TZID=UTC:20250802T170000
DTEND;TZID=UTC:20250802T200000
DTSTAMP:20260420T052935
CREATED:20250204T224529Z
LAST-MODIFIED:20250723T205150Z
UID:2135-1754154000-1754164800@www.pebblebayclub.com
SUMMARY:Live Music Performance: Johnny Henry
DESCRIPTION:Performance by Johnny Henry from 5 – 8 p.m. \nPebble Bay Club Grill will feature live music throughout all of 2025. Every Saturday\, enjoy your relaxing day and meal with renowned musicians who create a unique ambiance for your day at the lake. \nAll performances are subject to change\, please await updates on the digital calendar or our social links. 
URL:https://www.pebblebayclub.com/event/live-music-performance-johnny-henry/
LOCATION:Pebble Bay Club Grill\, 100 Pebble Bay Club Drive\, Camdenton\, MO\, 65020\, United States
CATEGORIES:Live Music
ATTACH;FMTTYPE=image/jpeg:https://www.pebblebayclub.com/wp-content/uploads/podcast-and-live-music.jpg
ORGANIZER;CN="Pebble Bay  Club":MAILTO:info@pebblebayclub.com
END:VEVENT
BEGIN:VEVENT
DTSTART;TZID=UTC:20250809T120000
DTEND;TZID=UTC:20250809T210000
DTSTAMP:20260420T052935
CREATED:20250729T204609Z
LAST-MODIFIED:20250729T205406Z
UID:2444-1754740800-1754773200@www.pebblebayclub.com
SUMMARY:Clearwater Day at Pebble Bay
DESCRIPTION:Pebble Bay Club is hosting its 2025 Neighbor Tour. We’re dedicating Saturday\, Aug. 9\, as the official Clearwater Day. While others may attend\, know this day is dedicated to the Clearwater community. We encourage you to bring your family\, neighbors and friends to join in the community celebration from noon – 9 PM.
URL:https://www.pebblebayclub.com/event/clearwater-day-at-pebble-bay/
LOCATION:Pebble Bay Club Grill\, 100 Pebble Bay Club Drive\, Camdenton\, MO\, 65020\, United States
CATEGORIES:Lake of the Ozarks Event
ATTACH;FMTTYPE=image/jpeg:https://www.pebblebayclub.com/wp-content/uploads/PBCNEIGHBORTOUR-1-1.jpg
ORGANIZER;CN="Pebble Bay  Club":MAILTO:info@pebblebayclub.com
END:VEVENT
BEGIN:VEVENT
DTSTART;TZID=UTC:20250809T160000
DTEND;TZID=UTC:20250809T190000
DTSTAMP:20260420T052935
CREATED:20250723T204329Z
LAST-MODIFIED:20250723T204329Z
UID:2387-1754755200-1754766000@www.pebblebayclub.com
SUMMARY:Live Music Performance: David Bennett
DESCRIPTION:Performance by David Bennett from 4 – 7 p.m. Every Saturday\, enjoy your relaxing day and meal with renowned musicians who create a unique ambiance for your day at the lake. \nAll performances are subject to change\, please await updates on the digital calendar or our social links.
URL:https://www.pebblebayclub.com/event/live-music-performance-david-bennett-4/
LOCATION:Pebble Bay Club Grill\, 100 Pebble Bay Club Drive\, Camdenton\, MO\, 65020\, United States
CATEGORIES:Live Music
ATTACH;FMTTYPE=image/jpeg:https://www.pebblebayclub.com/wp-content/uploads/Blue-Maximalist-4th-Of-July-Party-Flyer-us-Letter.jpg
ORGANIZER;CN="Pebble Bay  Club":MAILTO:info@pebblebayclub.com
END:VEVENT
BEGIN:VEVENT
DTSTART;TZID=UTC:20250816T120000
DTEND;TZID=UTC:20250816T210000
DTSTAMP:20260420T052935
CREATED:20250729T204804Z
LAST-MODIFIED:20250729T205419Z
UID:2446-1755345600-1755378000@www.pebblebayclub.com
SUMMARY:Cedar Heights Day at Pebble Bay
DESCRIPTION:Pebble Bay Club is hosting its 2025 Neighbor Tour. We’re dedicating Saturday\, Aug. 16\, as the official Cedar Heights Day. While others may attend\, know this day is dedicated to the Cedar Heights community. We encourage you to bring your family\, neighbors and friends to join in the community celebration from noon – 9 PM.
URL:https://www.pebblebayclub.com/event/cedar-heights-day-at-pebble-bay/
LOCATION:Pebble Bay Club Grill\, 100 Pebble Bay Club Drive\, Camdenton\, MO\, 65020\, United States
CATEGORIES:Lake of the Ozarks Event
ATTACH;FMTTYPE=image/jpeg:https://www.pebblebayclub.com/wp-content/uploads/PBCNEIGHBORTOUR-1-1.jpg
ORGANIZER;CN="Pebble Bay  Club":MAILTO:info@pebblebayclub.com
END:VEVENT
BEGIN:VEVENT
DTSTART;TZID=UTC:20250816T170000
DTEND;TZID=UTC:20250816T200000
DTSTAMP:20260420T052935
CREATED:20250728T191846Z
LAST-MODIFIED:20250728T191846Z
UID:2431-1755363600-1755374400@www.pebblebayclub.com
SUMMARY:Live Music Performance: Drew Stevens
DESCRIPTION:Performance by Drew Stevens from 5 – 8 p.m. \nPebble Bay Club Grill will feature live music throughout all of 2025. Every Saturday\, enjoy your relaxing day and meal with renowned musicians who create a unique ambiance for your day at the lake. \nAll performances are subject to change\, please await updates on the digital calendar or our social links.
URL:https://www.pebblebayclub.com/event/live-music-performance-drew-stevens-4/
LOCATION:Pebble Bay Club Grill\, 100 Pebble Bay Club Drive\, Camdenton\, MO\, 65020\, United States
CATEGORIES:Live Music
ATTACH;FMTTYPE=image/jpeg:https://www.pebblebayclub.com/wp-content/uploads/ARTIST-CHANGE-8-16.jpg
ORGANIZER;CN="Pebble Bay  Club":MAILTO:info@pebblebayclub.com
END:VEVENT
BEGIN:VEVENT
DTSTART;TZID=UTC:20250823T120000
DTEND;TZID=UTC:20250823T210000
DTSTAMP:20260420T052935
CREATED:20250729T204951Z
LAST-MODIFIED:20250729T205428Z
UID:2448-1755950400-1755982800@www.pebblebayclub.com
SUMMARY:Cedar Glen Day at Pebble Bay
DESCRIPTION:Pebble Bay Club is hosting its 2025 Neighbor Tour. We’re dedicating Saturday\, Aug. 23\, as the official Cedar Glen Day. While others may attend\, know this day is dedicated to the Cedar Glen community. We encourage you to bring your family\, neighbors and friends to join in the community celebration from noon – 9 PM.
URL:https://www.pebblebayclub.com/event/cedar-glen-day-at-pebble-bay/
LOCATION:Pebble Bay Club Grill\, 100 Pebble Bay Club Drive\, Camdenton\, MO\, 65020\, United States
CATEGORIES:Lake of the Ozarks Event
ATTACH;FMTTYPE=image/jpeg:https://www.pebblebayclub.com/wp-content/uploads/PBCNEIGHBORTOUR-1-1.jpg
ORGANIZER;CN="Pebble Bay  Club":MAILTO:info@pebblebayclub.com
END:VEVENT
BEGIN:VEVENT
DTSTART;TZID=UTC:20250823T170000
DTEND;TZID=UTC:20250823T200000
DTSTAMP:20260420T052935
CREATED:20250723T205415Z
LAST-MODIFIED:20250723T205415Z
UID:2390-1755968400-1755979200@www.pebblebayclub.com
SUMMARY:Live Music Performance: James Clay
DESCRIPTION:Performance by James Clay from 5 – 8 p.m. \nPebble Bay Club Grill will feature live music throughout all of 2025. Every Saturday\, enjoy your relaxing day and meal with renowned musicians who create a unique ambiance for your day at the lake. \nAll performances are subject to change\, please await updates on the digital calendar or our social links.
URL:https://www.pebblebayclub.com/event/live-music-performance-james-clay-3/
LOCATION:Pebble Bay Club Grill\, 100 Pebble Bay Club Drive\, Camdenton\, MO\, 65020\, United States
CATEGORIES:Live Music
ATTACH;FMTTYPE=image/jpeg:https://www.pebblebayclub.com/wp-content/uploads/White-Professional-Country-Music-A6-event-1.jpg
ORGANIZER;CN="Pebble Bay  Club":MAILTO:info@pebblebayclub.com
END:VEVENT
BEGIN:VEVENT
DTSTART;TZID=UTC:20250830T080000
DTEND;TZID=UTC:20250901T110000
DTSTAMP:20260420T052935
CREATED:20250729T213024Z
LAST-MODIFIED:20250729T213024Z
UID:2458-1756540800-1756724400@www.pebblebayclub.com
SUMMARY:Labor Day Weekend Breakfast
DESCRIPTION:Kick off your Labor Day weekend with our hearty breakfast special at Pebble Bay Club Grill. Serving breakfast on Saturday\, Sunday\, and Monday from 8 AM to 11 AM.
URL:https://www.pebblebayclub.com/event/labor-day-weekend-breakfast/
LOCATION:Pebble Bay Club Grill\, 100 Pebble Bay Club Drive\, Camdenton\, MO\, 65020\, United States
CATEGORIES:Holiday Event
ATTACH;FMTTYPE=image/jpeg:https://www.pebblebayclub.com/wp-content/uploads/LABOR-DAY-BREAKFAST.jpg
ORGANIZER;CN="Pebble Bay  Club":MAILTO:info@pebblebayclub.com
END:VEVENT
BEGIN:VEVENT
DTSTART;TZID=UTC:20250830T170000
DTEND;TZID=UTC:20250830T200000
DTSTAMP:20260420T052935
CREATED:20250723T205620Z
LAST-MODIFIED:20250723T205620Z
UID:2395-1756573200-1756584000@www.pebblebayclub.com
SUMMARY:Live Music Performance: Drew Stevens
DESCRIPTION:Performance by Drew Stevens from 5 – 8 p.m. \nPebble Bay Club Grill will feature live music throughout all of 2025. Every Saturday\, enjoy your relaxing day and meal with renowned musicians who create a unique ambiance for your day at the lake. \nAll performances are subject to change\, please await updates on the digital calendar or our social links.
URL:https://www.pebblebayclub.com/event/live-music-performance-drew-stevens-3/
LOCATION:Pebble Bay Club Grill\, 100 Pebble Bay Club Drive\, Camdenton\, MO\, 65020\, United States
CATEGORIES:Live Music
ATTACH;FMTTYPE=image/jpeg:https://www.pebblebayclub.com/wp-content/uploads/music-concert-night-party-1.jpg
ORGANIZER;CN="Pebble Bay  Club":MAILTO:info@pebblebayclub.com
END:VEVENT
BEGIN:VEVENT
DTSTART;TZID=UTC:20250906T180000
DTEND;TZID=UTC:20250906T200000
DTSTAMP:20260420T052935
CREATED:20250723T220311Z
LAST-MODIFIED:20250828T172606Z
UID:2415-1757181600-1757188800@www.pebblebayclub.com
SUMMARY:Pebble Bay Club 2025 Homecoming
DESCRIPTION:Pebble Bay Club is welcoming the Candenton High School marching band on Sunday\, September 6th. We are hosting a fundraiser event for the band\, and we encourage our valued guests to show their school spirit. At 6:00 p.m.\, the band will march down Pebble Bay Drive and will conduct a live performance after. \nLet’s hear it for the Pride Of The Lake Marching Band. \nSPONSORSHIP OPPORTUNITIES \nTo help raise funds for the Camdenton Band\, we ask our friends and valued patrons to consider purchasing a sponsorship table for the Homecoming event.  See the listed sponsorship opportunities in the graphic below. \nContact to reserve your table now: \nSara Gorman: 573.836.0676 or Sara.Gorman@CamdentonBands.org \nJoe Sweeney: 816.679.1828 or JSweeney@PebbleBayClub.com \n \n 
URL:https://www.pebblebayclub.com/event/pebble-bay-club-2025-homecoming/
LOCATION:Pebble Bay Club Grill\, 100 Pebble Bay Club Drive\, Camdenton\, MO\, 65020\, United States
CATEGORIES:Live Music
ATTACH;FMTTYPE=image/jpeg:https://www.pebblebayclub.com/wp-content/uploads/Orange-homecoming-pep-rally-game-post.jpeg
ORGANIZER;CN="Pebble Bay  Club":MAILTO:info@pebblebayclub.com
END:VEVENT
BEGIN:VEVENT
DTSTART;VALUE=DATE:20250910
DTEND;VALUE=DATE:20250915
DTSTAMP:20260420T052935
CREATED:20250729T202720Z
LAST-MODIFIED:20250729T202720Z
UID:2438-1757462400-1757894399@www.pebblebayclub.com
SUMMARY:Bikefest @ Pebble Bay Club
DESCRIPTION:Calling all bikers and hog riders! The Pebble Bay Club is celebrating Bikefest from September 10th – 14th with specials for our wild hog signature sandwiches. \nCome on down and enjoy your choice of our Pulled Pork\, Peppered Bacon\, and Smoked Ham drizzled with chipotle ranch & piled with onion straws\, for only $14.
URL:https://www.pebblebayclub.com/event/bikefest-pebble-bay-club/
LOCATION:Pebble Bay Club Grill\, 100 Pebble Bay Club Drive\, Camdenton\, MO\, 65020\, United States
CATEGORIES:Lake of the Ozarks Event
ATTACH;FMTTYPE=image/jpeg:https://www.pebblebayclub.com/wp-content/uploads/HogTableTent4x55-1-1.jpg
ORGANIZER;CN="Pebble Bay  Club":MAILTO:info@pebblebayclub.com
END:VEVENT
BEGIN:VEVENT
DTSTART;TZID=UTC:20250920T110000
DTEND;TZID=UTC:20250920T160000
DTSTAMP:20260420T052935
CREATED:20250724T174217Z
LAST-MODIFIED:20250910T135121Z
UID:2424-1758366000-1758384000@www.pebblebayclub.com
SUMMARY:Pebble Bay Club Car Show
DESCRIPTION:Pebble Bay Club is hosting its first annual car show on September 20th from 11 a.m. to 4 p.m.\, showcasing a stunning array of classic and modern vehicles. The show will feature the classic car collection of Dianne & Kurt Clink. \nEnthusiasts and families can enjoy food\, drinks and live music. Come celebrate these automotive masterpieces at the Pebble Bay Club’s scenic lakefront view. \nEnter Your Vehicle In The Show\nWant to enter your vehicle into the car show?! No problem\, please take the time to fill out our registration form\, and one of our representatives will get back with you. You may also register your classic car by calling (816) 679-1828. \nPebble Bay Club Car Show: Registration Form
URL:https://www.pebblebayclub.com/event/pebble-bay-club-car-show/
LOCATION:Pebble Bay Club Grill\, 100 Pebble Bay Club Drive\, Camdenton\, MO\, 65020\, United States
CATEGORIES:Lake of the Ozarks Event,Live Music
ATTACH;FMTTYPE=image/jpeg:https://www.pebblebayclub.com/wp-content/uploads/thumbnail_image1.jpg
ORGANIZER;CN="Pebble Bay  Club":MAILTO:info@pebblebayclub.com
END:VEVENT
BEGIN:VEVENT
DTSTART;TZID=UTC:20250920T120000
DTEND;TZID=UTC:20250920T210000
DTSTAMP:20260420T052935
CREATED:20250729T205227Z
LAST-MODIFIED:20250729T205227Z
UID:2450-1758369600-1758402000@www.pebblebayclub.com
SUMMARY:Old Kinderhook Day at Pebble Bay
DESCRIPTION:Pebble Bay Club is hosting its 2025 Neighbor Tour. We’re dedicating Saturday\, Sept. 20\, as the official Old Kinderhook Day. While others may attend\, know this day is dedicated to the Old Kinderhook community. We encourage you to bring your family\, neighbors and friends to join in the community celebration from noon – 9 PM.
URL:https://www.pebblebayclub.com/event/old-kinderhook-day-at-pebble-bay/
LOCATION:Pebble Bay Club Grill\, 100 Pebble Bay Club Drive\, Camdenton\, MO\, 65020\, United States
CATEGORIES:Lake of the Ozarks Event
ATTACH;FMTTYPE=image/jpeg:https://www.pebblebayclub.com/wp-content/uploads/PBCNEIGHBORTOUR-1-1.jpg
ORGANIZER;CN="Pebble Bay  Club":MAILTO:info@pebblebayclub.com
END:VEVENT
BEGIN:VEVENT
DTSTART;TZID=UTC:20250927T120000
DTEND;TZID=UTC:20250927T210000
DTSTAMP:20260420T052935
CREATED:20250729T205726Z
LAST-MODIFIED:20250729T205726Z
UID:2456-1758974400-1759006800@www.pebblebayclub.com
SUMMARY:Empire City and Good Neighbor Lane\Loop Day at Pebble Bay
DESCRIPTION:Pebble Bay Club is hosting its 2025 Neighbor Tour. We’re dedicating Saturday\, Sept. 27\, as the official Empire City and Good Neighbor Lane/Loop Day. While others may attend\, know this day is dedicated to the Empire City and Good Neighbor Lane\Loop community. We encourage you to bring your family\, neighbors and friends to join in the community celebration from noon – 9 PM.
URL:https://www.pebblebayclub.com/event/empire-city-and-good-neighbor-laneloop-day-at-pebble-bay/
LOCATION:Pebble Bay Club Grill\, 100 Pebble Bay Club Drive\, Camdenton\, MO\, 65020\, United States
CATEGORIES:Lake of the Ozarks Event
ATTACH;FMTTYPE=image/jpeg:https://www.pebblebayclub.com/wp-content/uploads/PBCNEIGHBORTOUR-1-1.jpg
ORGANIZER;CN="Pebble Bay  Club":MAILTO:info@pebblebayclub.com
END:VEVENT
BEGIN:VEVENT
DTSTART;TZID=UTC:20251002T170000
DTEND;TZID=UTC:20251002T200000
DTSTAMP:20260420T052935
CREATED:20250723T210817Z
LAST-MODIFIED:20250723T210817Z
UID:2401-1759424400-1759435200@www.pebblebayclub.com
SUMMARY:Karaoke Nights @ Pebble Bay Club
DESCRIPTION:Sing your heart out to your favorite tunes. Karaoke nights featuring Levi Chapman at the Pebble Bay Club Grill are perfect for dates or fun outings with friends.
URL:https://www.pebblebayclub.com/event/karaoke-nights-pebble-bay-club-2/
LOCATION:Pebble Bay Club Grill\, 100 Pebble Bay Club Drive\, Camdenton\, MO\, 65020\, United States
CATEGORIES:Karaoke
ATTACH;FMTTYPE=image/jpeg:https://www.pebblebayclub.com/wp-content/uploads/karaoke-night-flyer-1.jpg
ORGANIZER;CN="Pebble Bay  Club":MAILTO:info@pebblebayclub.com
END:VEVENT
BEGIN:VEVENT
DTSTART;VALUE=DATE:20251003
DTEND;VALUE=DATE:20251006
DTSTAMP:20260420T052935
CREATED:20250926T184635Z
LAST-MODIFIED:20250926T184635Z
UID:2480-1759449600-1759708799@www.pebblebayclub.com
SUMMARY:Fall Glory Oktoberfest Weekend
DESCRIPTION:Come down to Pebble Bay Club and enjoy the Fall season in all its glory. \nJoin in the traditions and festivities of Oktoberfest with fabulous food specials\, live music performances\, as well as lots and lots of BEER!
URL:https://www.pebblebayclub.com/event/fall-glory-oktoberfest-weekend/
LOCATION:Pebble Bay Club Grill\, 100 Pebble Bay Club Drive\, Camdenton\, MO\, 65020\, United States
CATEGORIES:Holiday Event,Live Music
ORGANIZER;CN="Pebble Bay  Club":MAILTO:info@pebblebayclub.com
END:VEVENT
END:VCALENDAR