BEGIN:VCALENDAR
VERSION:2.0
PRODID:-//Pebble Bay Club - Waterfront Lodging and Grille - ECPv6.15.17.1//NONSGML v1.0//EN
CALSCALE:GREGORIAN
METHOD:PUBLISH
X-WR-CALNAME:Pebble Bay Club - Waterfront Lodging and Grille
X-ORIGINAL-URL:https://www.pebblebayclub.com
X-WR-CALDESC:Events for Pebble Bay Club - Waterfront Lodging and Grille
REFRESH-INTERVAL;VALUE=DURATION:PT1H
X-Robots-Tag:noindex
X-PUBLISHED-TTL:PT1H
BEGIN:VTIMEZONE
TZID:UTC
BEGIN:STANDARD
TZOFFSETFROM:+0000
TZOFFSETTO:+0000
TZNAME:UTC
DTSTART:20240101T000000
END:STANDARD
END:VTIMEZONE
BEGIN:VEVENT
DTSTART;TZID=UTC:20250320T170000
DTEND;TZID=UTC:20250320T190000
DTSTAMP:20260420T035536
CREATED:20250224T184654Z
LAST-MODIFIED:20250224T184654Z
UID:2188-1742490000-1742497200@www.pebblebayclub.com
SUMMARY:Business After Business Networking Social
DESCRIPTION:Camdenton Area Chamber Members and other local business members are invited to join us for our 1st Quarter Business After Business Networking social on Thursday\, March 20th from 5-7 p.m. at the Pebble Bay Club\, sponsored in part by LakeDays.Rentals. \nAttendees will enjoy complimentary appetizers\, cash bar\, and great networking with fellow business peers. Be sure to bring plenty of your business cards and we hope to see you then! \n**Also\, plan to arrive early and help us celebrate Pebble Bay Club and their membership to the Camdenton Area Chamber of Commerce. Join us for their ribbon-cutting ceremony taking place at 4:30pm\, just before the social!
URL:https://www.pebblebayclub.com/event/business-after-business-networking-social/
LOCATION:Pebble Bay Club Grill\, 100 Pebble Bay Club Drive\, Camdenton\, MO\, 65020\, United States
ATTACH;FMTTYPE=image/jpeg:https://www.pebblebayclub.com/wp-content/uploads/pbc-chamber-event.jpg
ORGANIZER;CN="Pebble Bay  Club":MAILTO:info@pebblebayclub.com
END:VEVENT
BEGIN:VEVENT
DTSTART;TZID=UTC:20250321T170000
DTEND;TZID=UTC:20250321T210000
DTSTAMP:20260420T035536
CREATED:20250116T203246Z
LAST-MODIFIED:20250116T203246Z
UID:2089-1742576400-1742590800@www.pebblebayclub.com
SUMMARY:Third Friday Karaoke Night
DESCRIPTION:
URL:https://www.pebblebayclub.com/event/third-friday-karaoke-night-3/
LOCATION:Pebble Bay Club Grill\, 100 Pebble Bay Club Drive\, Camdenton\, MO\, 65020\, United States
CATEGORIES:Karaoke
ATTACH;FMTTYPE=image/jpeg:https://www.pebblebayclub.com/wp-content/uploads/shutterstock_2420088051-scaled.jpg
ORGANIZER;CN="Pebble Bay  Club":MAILTO:info@pebblebayclub.com
END:VEVENT
BEGIN:VEVENT
DTSTART;TZID=UTC:20250402T160000
DTEND;TZID=UTC:20250402T210000
DTSTAMP:20260420T035536
CREATED:20250324T191939Z
LAST-MODIFIED:20250324T191939Z
UID:2237-1743609600-1743627600@www.pebblebayclub.com
SUMMARY:PBC SPRING Pickleball Tournament
DESCRIPTION:For any inquiries\, call (573) 317-4999.
URL:https://www.pebblebayclub.com/event/pbc-spring-pickleball-tournament/
LOCATION:Pebble Bay Club Grill\, 100 Pebble Bay Club Drive\, Camdenton\, MO\, 65020\, United States
CATEGORIES:Game Night
ORGANIZER;CN="Pebble Bay  Club":MAILTO:info@pebblebayclub.com
END:VEVENT
BEGIN:VEVENT
DTSTART;VALUE=DATE:20250403
DTEND;VALUE=DATE:20250404
DTSTAMP:20260420T035536
CREATED:20250324T192112Z
LAST-MODIFIED:20250324T192112Z
UID:2239-1743638400-1743724799@www.pebblebayclub.com
SUMMARY:Thirsty Thursday @ PBC: Many Drink Specials
DESCRIPTION:Enjoy a nice drink at the Pebble Bay Club Grill.
URL:https://www.pebblebayclub.com/event/thirsty-thursday-pbc-many-drink-specials/
LOCATION:Pebble Bay Club Grill\, 100 Pebble Bay Club Drive\, Camdenton\, MO\, 65020\, United States
ORGANIZER;CN="Pebble Bay  Club":MAILTO:info@pebblebayclub.com
END:VEVENT
BEGIN:VEVENT
DTSTART;TZID=UTC:20250404T170000
DTEND;TZID=UTC:20250404T210000
DTSTAMP:20260420T035536
CREATED:20250324T192506Z
LAST-MODIFIED:20250324T192521Z
UID:2241-1743786000-1743800400@www.pebblebayclub.com
SUMMARY:20 Lake Pros You Should Know: Round 3
DESCRIPTION:On Friday\, April 4\,  at 5 p.m.\, our second round of honorees will gather to present their goals for success and how their business thrives at the lake. Network with your local business professionals and get to know the people that make the Lake of the Ozarks a joy to work with.
URL:https://www.pebblebayclub.com/event/first-friday-20-lake-pros-you-should-know-round-3/
LOCATION:Pebble Bay Club Grill\, 100 Pebble Bay Club Drive\, Camdenton\, MO\, 65020\, United States
CATEGORIES:Networking
ATTACH;FMTTYPE=image/gif:https://www.pebblebayclub.com/wp-content/uploads/20-lake-pros-April-2025-card.gif
ORGANIZER;CN="Pebble Bay  Club":MAILTO:info@pebblebayclub.com
END:VEVENT
BEGIN:VEVENT
DTSTART;TZID=UTC:20250409T160000
DTEND;TZID=UTC:20250409T210000
DTSTAMP:20260420T035536
CREATED:20250324T192716Z
LAST-MODIFIED:20250324T192716Z
UID:2245-1744214400-1744232400@www.pebblebayclub.com
SUMMARY:PBC SPRING Cornhole Tournament
DESCRIPTION:
URL:https://www.pebblebayclub.com/event/pbc-spring-cornhole-tournament/
LOCATION:Pebble Bay Club Grill\, 100 Pebble Bay Club Drive\, Camdenton\, MO\, 65020\, United States
CATEGORIES:Game Night
ORGANIZER;CN="Pebble Bay  Club":MAILTO:info@pebblebayclub.com
END:VEVENT
BEGIN:VEVENT
DTSTART;TZID=UTC:20250410T170000
DTEND;TZID=UTC:20250410T200000
DTSTAMP:20260420T035536
CREATED:20250324T192928Z
LAST-MODIFIED:20250324T203027Z
UID:2247-1744304400-1744315200@www.pebblebayclub.com
SUMMARY:Bourbon & Cigar Experience
DESCRIPTION:
URL:https://www.pebblebayclub.com/event/bourbon-cigar-experience/
LOCATION:Pebble Bay Club Grill\, 100 Pebble Bay Club Drive\, Camdenton\, MO\, 65020\, United States
ATTACH;FMTTYPE=image/jpeg:https://www.pebblebayclub.com/wp-content/uploads/2-THURSDAY-EVENTCIGARBourbon.jpg
ORGANIZER;CN="Pebble Bay  Club":MAILTO:info@pebblebayclub.com
END:VEVENT
BEGIN:VEVENT
DTSTART;TZID=UTC:20250416T160000
DTEND;TZID=UTC:20250416T210000
DTSTAMP:20260420T035536
CREATED:20250324T203249Z
LAST-MODIFIED:20250324T203249Z
UID:2251-1744819200-1744837200@www.pebblebayclub.com
SUMMARY:PBC SPRING Pickleball Tournament
DESCRIPTION:
URL:https://www.pebblebayclub.com/event/pbc-spring-pickleball-tournament-2/
LOCATION:Pebble Bay Club Grill\, 100 Pebble Bay Club Drive\, Camdenton\, MO\, 65020\, United States
ORGANIZER;CN="Pebble Bay  Club":MAILTO:info@pebblebayclub.com
END:VEVENT
BEGIN:VEVENT
DTSTART;TZID=UTC:20250417T170000
DTEND;TZID=UTC:20250417T200000
DTSTAMP:20260420T035536
CREATED:20250324T203613Z
LAST-MODIFIED:20250324T203613Z
UID:2253-1744909200-1744920000@www.pebblebayclub.com
SUMMARY:Trivia Competition @ PBC: Pub Stumpers Night
DESCRIPTION:
URL:https://www.pebblebayclub.com/event/trivia-competition-pbc-pub-stumpers-night/
LOCATION:Pebble Bay Club Grill\, 100 Pebble Bay Club Drive\, Camdenton\, MO\, 65020\, United States
CATEGORIES:Trivia
ORGANIZER;CN="Pebble Bay  Club":MAILTO:info@pebblebayclub.com
END:VEVENT
BEGIN:VEVENT
DTSTART;TZID=UTC:20250419T110000
DTEND;TZID=UTC:20250419T140000
DTSTAMP:20260420T035536
CREATED:20250324T204620Z
LAST-MODIFIED:20250324T204620Z
UID:2258-1745060400-1745071200@www.pebblebayclub.com
SUMMARY:EASTER EGG HUNT: Face Painting & More
DESCRIPTION:
URL:https://www.pebblebayclub.com/event/easter-egg-hunt-face-painting-more/
LOCATION:Pebble Bay Club Grill\, 100 Pebble Bay Club Drive\, Camdenton\, MO\, 65020\, United States
CATEGORIES:Holiday Event
ATTACH;FMTTYPE=image/png:https://www.pebblebayclub.com/wp-content/uploads/19-APRIL-EASTER.png
ORGANIZER;CN="Pebble Bay  Club":MAILTO:info@pebblebayclub.com
END:VEVENT
BEGIN:VEVENT
DTSTART;TZID=UTC:20250420T110000
DTEND;TZID=UTC:20250420T150000
DTSTAMP:20260420T035536
CREATED:20250324T204013Z
LAST-MODIFIED:20250324T204157Z
UID:2255-1745146800-1745161200@www.pebblebayclub.com
SUMMARY:EASTER BRUNCH @ PBC
DESCRIPTION:
URL:https://www.pebblebayclub.com/event/easter-brunch-pbc/
LOCATION:Pebble Bay Club Grill\, 100 Pebble Bay Club Drive\, Camdenton\, MO\, 65020\, United States
CATEGORIES:Holiday Event
ATTACH;FMTTYPE=image/png:https://www.pebblebayclub.com/wp-content/uploads/19-APRIL-EASTER.png
ORGANIZER;CN="Pebble Bay  Club":MAILTO:info@pebblebayclub.com
END:VEVENT
BEGIN:VEVENT
DTSTART;TZID=UTC:20250425T170000
DTEND;TZID=UTC:20250425T200000
DTSTAMP:20260420T035536
CREATED:20250425T181850Z
LAST-MODIFIED:20250425T181850Z
UID:2309-1745600400-1745611200@www.pebblebayclub.com
SUMMARY:Karaoke Night @ Pebble Bay Club Grill
DESCRIPTION:Join us for an unforgettable Karaoke Night at Pebble Bay Club Grill! Grab the mic every Friday from 5 PM – 8 PM and belt out your favorite tunes in our lively bar and grill. Our sound system\, extensive song list\, and delicious bites from our grill make the perfect spot for a weekend experience with your friends—see you at Pebble Bay Club!
URL:https://www.pebblebayclub.com/event/karaoke-night-pebble-bay-club-grill/
LOCATION:Pebble Bay Club Grill\, 100 Pebble Bay Club Drive\, Camdenton\, MO\, 65020\, United States
CATEGORIES:Karaoke
ATTACH;FMTTYPE=image/jpeg:https://www.pebblebayclub.com/wp-content/uploads/493175251_122186411348339553_916611112272973876_n.jpg
ORGANIZER;CN="Pebble Bay  Club":MAILTO:info@pebblebayclub.com
END:VEVENT
BEGIN:VEVENT
DTSTART;VALUE=DATE:20250501
DTEND;VALUE=DATE:20250601
DTSTAMP:20260420T035536
CREATED:20250416T202526Z
LAST-MODIFIED:20250418T194119Z
UID:2285-1746057600-1748735999@www.pebblebayclub.com
SUMMARY:Military Appreciation Month
DESCRIPTION:All through the month of May 2025\, all veterans can benefit from 10% off their food and drink purchase.
URL:https://www.pebblebayclub.com/event/military-appreciation-month/
LOCATION:Pebble Bay Club Grill\, 100 Pebble Bay Club Drive\, Camdenton\, MO\, 65020\, United States
ATTACH;FMTTYPE=image/jpeg:https://www.pebblebayclub.com/wp-content/uploads/MAY-MILITARY-APPRECIATION-MONTH.jpg
ORGANIZER;CN="Pebble Bay  Club":MAILTO:info@pebblebayclub.com
END:VEVENT
BEGIN:VEVENT
DTSTART;VALUE=DATE:20250502
DTEND;VALUE=DATE:20250503
DTSTAMP:20260420T035536
CREATED:20250416T202117Z
LAST-MODIFIED:20250416T202117Z
UID:2282-1746144000-1746230399@www.pebblebayclub.com
SUMMARY:First Responders Appreciation Event
DESCRIPTION:Your friends at the Pebble Bay Club wish to extend our gratitude to all the men and women who put their lives on the line for others. On Friday\, May 2\, First responders are welcome to enjoy 10% off food and drink purchases.
URL:https://www.pebblebayclub.com/event/first-responders-appreciation-event/
LOCATION:Pebble Bay Club Grill\, 100 Pebble Bay Club Drive\, Camdenton\, MO\, 65020\, United States
ATTACH;FMTTYPE=image/jpeg:https://www.pebblebayclub.com/wp-content/uploads/FIRST-RESPONDERS-DAY.jpg
ORGANIZER;CN="Pebble Bay  Club":MAILTO:info@pebblebayclub.com
END:VEVENT
BEGIN:VEVENT
DTSTART;TZID=UTC:20250502T170000
DTEND;TZID=UTC:20250502T210000
DTSTAMP:20260420T035536
CREATED:20250416T200046Z
LAST-MODIFIED:20250416T200046Z
UID:2269-1746205200-1746219600@www.pebblebayclub.com
SUMMARY:20 Lake Pros You Should Know: Round 4
DESCRIPTION:On Friday\, May 2\, at 5 p.m.\, our second round of honorees will gather to present their goals for success and how their business thrives at the lake. Network with your local business professionals and get to know the people who make the Lake of the Ozarks a joy to work with.
URL:https://www.pebblebayclub.com/event/20-lake-pros-you-should-know-round-4/
LOCATION:Pebble Bay Club Grill\, 100 Pebble Bay Club Drive\, Camdenton\, MO\, 65020\, United States
CATEGORIES:Networking
ATTACH;FMTTYPE=image/png:https://www.pebblebayclub.com/wp-content/uploads/20-Lake-pros-May.png
ORGANIZER;CN="Pebble Bay  Club":MAILTO:info@pebblebayclub.com
END:VEVENT
BEGIN:VEVENT
DTSTART;TZID=UTC:20250503T110000
DTEND;TZID=UTC:20250503T190000
DTSTAMP:20260420T035536
CREATED:20250416T200257Z
LAST-MODIFIED:20250416T200431Z
UID:2272-1746270000-1746298800@www.pebblebayclub.com
SUMMARY:Harbor Hop 2025
DESCRIPTION:
URL:https://www.pebblebayclub.com/event/harbor-hop/
LOCATION:Pebble Bay Club Grill\, 100 Pebble Bay Club Drive\, Camdenton\, MO\, 65020\, United States
CATEGORIES:Lake of the Ozarks Event
ATTACH;FMTTYPE=image/jpeg:https://www.pebblebayclub.com/wp-content/uploads/MAY-HARBOR-HOP.jpg
ORGANIZER;CN="Pebble Bay  Club":MAILTO:info@pebblebayclub.com
END:VEVENT
BEGIN:VEVENT
DTSTART;TZID=UTC:20250503T150000
DTEND;TZID=UTC:20250503T180000
DTSTAMP:20260420T035536
CREATED:20250204T220150Z
LAST-MODIFIED:20250416T200720Z
UID:2106-1746284400-1746295200@www.pebblebayclub.com
SUMMARY:Live Music Performance: James Clay
DESCRIPTION:Performance by James Clay from 3 – 6 p.m. \nPebble Bay Club Grill will feature live music throughout all of 2025. Every Saturday from 3 p.m. to 6 p.m.\, enjoy your relaxing day and meal with renowned musicians who create a unique ambiance for your day at the lake. \nAll performances are subject to change\, please await updates on the digital calender or our social links. 
URL:https://www.pebblebayclub.com/event/live-music-performance-james-clay/
LOCATION:Pebble Bay Club Grill\, 100 Pebble Bay Club Drive\, Camdenton\, MO\, 65020\, United States
CATEGORIES:Live Music
ATTACH;FMTTYPE=image/jpeg:https://www.pebblebayclub.com/wp-content/uploads/CLAY-5-3.jpg
END:VEVENT
BEGIN:VEVENT
DTSTART;TZID=UTC:20250503T173000
DTEND;TZID=UTC:20250503T210000
DTSTAMP:20260420T035536
CREATED:20250416T210632Z
LAST-MODIFIED:20250416T210632Z
UID:2302-1746293400-1746306000@www.pebblebayclub.com
SUMMARY:Kentucky Derby + Derby Hat Contest
DESCRIPTION:The Pebble Bay Club is broadcasting the Kentucky Derby. The race begins on Saturday\, May 3\, precisely at 5:57 p.m. CST. \nThe Kentucky Derby is legendary second only to the festive hats that derby-goers wear. In addition to the race\, Pebble Bay Club is hosting a Derby Hat Contest with prizes for 1st\, 2nd and 3rd place. Come to our restaurant with your beautiful hats and have fun!
URL:https://www.pebblebayclub.com/event/kentucky-derby-derby-hat-contest/
LOCATION:Pebble Bay Club Grill\, 100 Pebble Bay Club Drive\, Camdenton\, MO\, 65020\, United States
CATEGORIES:Watch Party
ATTACH;FMTTYPE=image/jpeg:https://www.pebblebayclub.com/wp-content/uploads/Kentucky-Derby-scaled.jpg
ORGANIZER;CN="Pebble Bay  Club":MAILTO:info@pebblebayclub.com
END:VEVENT
BEGIN:VEVENT
DTSTART;VALUE=DATE:20250505
DTEND;VALUE=DATE:20250506
DTSTAMP:20260420T035536
CREATED:20250416T203631Z
LAST-MODIFIED:20250416T203842Z
UID:2288-1746403200-1746489599@www.pebblebayclub.com
SUMMARY:Cinco De Mayo @ PBC
DESCRIPTION:Enjoy Mexican cuisine with all-day tacos for Pebble Bay Club’s Cinco de Mayo celebration. Call (573) 317-4999 for our specials.
URL:https://www.pebblebayclub.com/event/cinco-de-mayo-pbc/
LOCATION:Pebble Bay Club Grill\, 100 Pebble Bay Club Drive\, Camdenton\, MO\, 65020\, United States
CATEGORIES:Holiday Event
ATTACH;FMTTYPE=image/png:https://www.pebblebayclub.com/wp-content/uploads/Screenshot-535.png
ORGANIZER;CN="Pebble Bay  Club":MAILTO:info@pebblebayclub.com
END:VEVENT
BEGIN:VEVENT
DTSTART;TZID=UTC:20250510T150000
DTEND;TZID=UTC:20250510T180000
DTSTAMP:20260420T035536
CREATED:20250204T220424Z
LAST-MODIFIED:20250416T200618Z
UID:2108-1746889200-1746900000@www.pebblebayclub.com
SUMMARY:Live Music Performance: Art Bentley
DESCRIPTION:Performance by Art Bentley from 3 – 6 p.m. \nPebble Bay Club Grill will feature live music throughout all of 2025. Every Saturday from 3 p.m. to 6 p.m.\, enjoy your relaxing day and meal with renowned musicians who create a unique ambiance for your day at the lake. \nAll performances are subject to change\, please await updates on the digital calender or our social links. 
URL:https://www.pebblebayclub.com/event/live-music-performance-art-bentley/
LOCATION:Pebble Bay Club Grill\, 100 Pebble Bay Club Drive\, Camdenton\, MO\, 65020\, United States
CATEGORIES:Live Music
ATTACH;FMTTYPE=image/jpeg:https://www.pebblebayclub.com/wp-content/uploads/BENTLEY-5-10.jpg
END:VEVENT
BEGIN:VEVENT
DTSTART;VALUE=DATE:20250516
DTEND;VALUE=DATE:20250517
DTSTAMP:20260420T035536
CREATED:20250416T204708Z
LAST-MODIFIED:20250416T204723Z
UID:2295-1747353600-1747439999@www.pebblebayclub.com
SUMMARY:National BBQ Day @ PBC: Holy Smokes This Event Is Hot
DESCRIPTION:Pebble Bay Club is celebrating National Barbeque Day with mouth-watering selections. Call (573) 317-4999 for our specials.
URL:https://www.pebblebayclub.com/event/national-bbq-day-pbc-holy-smokes-this-event-is-hot/
LOCATION:Pebble Bay Club Grill\, 100 Pebble Bay Club Drive\, Camdenton\, MO\, 65020\, United States
CATEGORIES:Holiday Event
ATTACH;FMTTYPE=image/jpeg:https://www.pebblebayclub.com/wp-content/uploads/16-MAY-NATIONAL-BBQ-DAY.jpg
ORGANIZER;CN="Pebble Bay  Club":MAILTO:info@pebblebayclub.com
END:VEVENT
BEGIN:VEVENT
DTSTART;TZID=UTC:20250517T150000
DTEND;TZID=UTC:20250517T180000
DTSTAMP:20260420T035536
CREATED:20250204T220839Z
LAST-MODIFIED:20250416T200933Z
UID:2110-1747494000-1747504800@www.pebblebayclub.com
SUMMARY:Live Music Performance: Starla & Scotty
DESCRIPTION:Performance by Starla & Scotty from 3 – 6 p.m. \nPebble Bay Club Grill will feature live music throughout all of 2025. Every Saturday from 3 p.m. to 6 p.m.\, enjoy your relaxing day and meal with renowned musicians who create a unique ambiance for your day at the lake. \nAll performances are subject to change\, please await updates on the digital calender or our social links.
URL:https://www.pebblebayclub.com/event/live-music-performance-starla-scotty/
LOCATION:MO
CATEGORIES:Live Music
ATTACH;FMTTYPE=image/jpeg:https://www.pebblebayclub.com/wp-content/uploads/Live-band-Poster-template.jpg
ORGANIZER;CN="Pebble Bay  Club":MAILTO:info@pebblebayclub.com
END:VEVENT
BEGIN:VEVENT
DTSTART;TZID=UTC:20250524T150000
DTEND;TZID=UTC:20250524T180000
DTSTAMP:20260420T035536
CREATED:20250204T221027Z
LAST-MODIFIED:20250416T201058Z
UID:2113-1748098800-1748109600@www.pebblebayclub.com
SUMMARY:Live Music Performance: Michael Byington
DESCRIPTION:Performance by Michael Byington from 3 – 6 p.m. \nPebble Bay Club Grill will feature live music throughout all of 2025. Every Saturday from 3 p.m. to 6 p.m.\, enjoy your relaxing day and meal with renowned musicians who create a unique ambiance for your day at the lake. \nAll performances are subject to change\, please await updates on the digital calender or our social links. 
URL:https://www.pebblebayclub.com/event/live-music-performance-michael-byington/
LOCATION:MO
CATEGORIES:Live Music
ATTACH;FMTTYPE=image/jpeg:https://www.pebblebayclub.com/wp-content/uploads/Jazz-Festival-Event-Wallboard.jpg
END:VEVENT
BEGIN:VEVENT
DTSTART;VALUE=DATE:20250525
DTEND;VALUE=DATE:20250526
DTSTAMP:20260420T035536
CREATED:20250416T205027Z
LAST-MODIFIED:20250418T200242Z
UID:2299-1748131200-1748217599@www.pebblebayclub.com
SUMMARY:National Wine Day @ PBC
DESCRIPTION:It’s National Wine Day at the Pebble Bay Club on May 25. Call (573) 317-4999 for our wine selection and specials.
URL:https://www.pebblebayclub.com/event/national-wine-day-pbc/
LOCATION:Pebble Bay Club Grill\, 100 Pebble Bay Club Drive\, Camdenton\, MO\, 65020\, United States
CATEGORIES:Holiday Event
ATTACH;FMTTYPE=image/jpeg:https://www.pebblebayclub.com/wp-content/uploads/Cream-Floral-National-Wine-Day-Template-Inst.jpg
ORGANIZER;CN="Pebble Bay  Club":MAILTO:info@pebblebayclub.com
END:VEVENT
BEGIN:VEVENT
DTSTART;TZID=UTC:20250525T150000
DTEND;TZID=UTC:20250525T180000
DTSTAMP:20260420T035536
CREATED:20250204T221820Z
LAST-MODIFIED:20250204T221820Z
UID:2115-1748185200-1748196000@www.pebblebayclub.com
SUMMARY:Live Music Performance: David Bennett
DESCRIPTION:Performance by David Bennett from 3 – 6 p.m. \nPebble Bay Club Grill will feature live music throughout all of 2025. On this special Sunday performance\, from 3 p.m. to 6 p.m.\, enjoy your relaxing day and meal with this renowned musician for a special night at the lake. \nAll performances are subject to change\, please await updates on the digital calender or our social links. 
URL:https://www.pebblebayclub.com/event/live-music-performance-david-bennett/
LOCATION:Pebble Bay Club Grill\, 100 Pebble Bay Club Drive\, Camdenton\, MO\, 65020\, United States
CATEGORIES:Live Music
ORGANIZER;CN="Pebble Bay  Club":MAILTO:info@pebblebayclub.com
END:VEVENT
BEGIN:VEVENT
DTSTART;TZID=UTC:20250531T150000
DTEND;TZID=UTC:20250531T180000
DTSTAMP:20260420T035536
CREATED:20250204T222210Z
LAST-MODIFIED:20250416T201206Z
UID:2117-1748703600-1748714400@www.pebblebayclub.com
SUMMARY:Live Music Performance: Drew Stevens
DESCRIPTION:Performance by Drew Stevens from 3 – 6 p.m. \nPebble Bay Club Grill will feature live music throughout all of 2025. Every Saturday from 3 p.m. to 6 p.m.\, enjoy your relaxing day and meal with renowned musicians who create a unique ambiance for your day at the lake. \nAll performances are subject to change\, please await updates on the digital calender or our social links. 
URL:https://www.pebblebayclub.com/event/live-music-performance-drew-stevens/
LOCATION:Pebble Bay Club Grill\, 100 Pebble Bay Club Drive\, Camdenton\, MO\, 65020\, United States
CATEGORIES:Live Music
ATTACH;FMTTYPE=image/jpeg:https://www.pebblebayclub.com/wp-content/uploads/music-concert-night-party.jpg
ORGANIZER;CN="Pebble Bay  Club":MAILTO:info@pebblebayclub.com
END:VEVENT
BEGIN:VEVENT
DTSTART;VALUE=DATE:20250601
DTEND;VALUE=DATE:20250609
DTSTAMP:20260420T035536
CREATED:20250513T205958Z
LAST-MODIFIED:20250513T210317Z
UID:2322-1748736000-1749427199@www.pebblebayclub.com
SUMMARY:National Fishing & Boating Week June 1-8
DESCRIPTION:Join us at Pebble Bay Club Grill to celebrate National Fishing & Boating Week! Enjoy our gorgeous waterfront views alongside our food and cocktail specials all week long. \n 
URL:https://www.pebblebayclub.com/event/national-fishing-boating-week-june-1-8/
LOCATION:Pebble Bay Club Grill\, 100 Pebble Bay Club Drive\, Camdenton\, MO\, 65020\, United States
ATTACH;FMTTYPE=image/jpeg:https://www.pebblebayclub.com/wp-content/uploads/Fishing.jpg
ORGANIZER;CN="Pebble Bay  Club":MAILTO:info@pebblebayclub.com
END:VEVENT
BEGIN:VEVENT
DTSTART;TZID=UTC:20250603T160000
DTEND;TZID=UTC:20250603T200000
DTSTAMP:20260420T035536
CREATED:20250513T212821Z
LAST-MODIFIED:20250513T212821Z
UID:2334-1748966400-1748980800@www.pebblebayclub.com
SUMMARY:Kids Night @ Pebble Bay Club
DESCRIPTION:Every Tuesday from May 20th through August 19th is Kids Night at Pebble Bay Club. \nCornhole\, Pickleball\, Swimming\, Golf Putt and kids menu specials from 4:00 p.m. – 8 p.m.
URL:https://www.pebblebayclub.com/event/kids-night-pebble-bay-club/
LOCATION:Pebble Bay Club Grill\, 100 Pebble Bay Club Drive\, Camdenton\, MO\, 65020\, United States
ATTACH;FMTTYPE=image/jpeg:https://www.pebblebayclub.com/wp-content/uploads/MONTHLY-Kids-Nights.jpg
ORGANIZER;CN="Pebble Bay  Club":MAILTO:info@pebblebayclub.com
END:VEVENT
BEGIN:VEVENT
DTSTART;VALUE=DATE:20250605
DTEND;VALUE=DATE:20250606
DTSTAMP:20260420T035536
CREATED:20250513T214038Z
LAST-MODIFIED:20250513T214038Z
UID:2345-1749081600-1749167999@www.pebblebayclub.com
SUMMARY:National Moonshine Day @ Pebble Bay Club
DESCRIPTION:Join us at Pebble Bay Club on National Moonshine Day for a spirited celebration featuring the finest handcrafted moonshine cocktails with a bluegrass-inspired Thirsty Thursday. \n 
URL:https://www.pebblebayclub.com/event/national-moonshine-day-pebble-bay-club/
LOCATION:Pebble Bay Club Grill\, 100 Pebble Bay Club Drive\, Camdenton\, MO\, 65020\, United States
ATTACH;FMTTYPE=image/jpeg:https://www.pebblebayclub.com/wp-content/uploads/National-Moonshine-Day.jpg
ORGANIZER;CN="Pebble Bay  Club":MAILTO:info@pebblebayclub.com
END:VEVENT
BEGIN:VEVENT
DTSTART;TZID=UTC:20250607T150000
DTEND;TZID=UTC:20250607T180000
DTSTAMP:20260420T035536
CREATED:20250204T222602Z
LAST-MODIFIED:20250513T210502Z
UID:2119-1749308400-1749319200@www.pebblebayclub.com
SUMMARY:Live Music Performance: Art Bentley
DESCRIPTION:Performance by Art Bentley from 3 – 6 p.m. \nPebble Bay Club Grill will feature live music throughout all of 2025. Every Saturday from 3 p.m. to 6 p.m.\, enjoy your relaxing day and meal with renowned musicians who create a unique ambiance for your day at the lake. \nAll performances are subject to change\, please await updates on the digital calender or our social links. 
URL:https://www.pebblebayclub.com/event/live-music-performance-art-bentley-2/
LOCATION:Pebble Bay Club Grill\, 100 Pebble Bay Club Drive\, Camdenton\, MO\, 65020\, United States
CATEGORIES:Live Music
ATTACH;FMTTYPE=image/jpeg:https://www.pebblebayclub.com/wp-content/uploads/BENTLEY-6-7.jpg
ORGANIZER;CN="Pebble Bay  Club":MAILTO:info@pebblebayclub.com
END:VEVENT
END:VCALENDAR