BEGIN:VCALENDAR
VERSION:2.0
PRODID:-//Pebble Bay Club - Waterfront Lodging and Grille - ECPv6.15.17.1//NONSGML v1.0//EN
CALSCALE:GREGORIAN
METHOD:PUBLISH
X-WR-CALNAME:Pebble Bay Club - Waterfront Lodging and Grille
X-ORIGINAL-URL:https://www.pebblebayclub.com
X-WR-CALDESC:Events for Pebble Bay Club - Waterfront Lodging and Grille
REFRESH-INTERVAL;VALUE=DURATION:PT1H
X-Robots-Tag:noindex
X-PUBLISHED-TTL:PT1H
BEGIN:VTIMEZONE
TZID:UTC
BEGIN:STANDARD
TZOFFSETFROM:+0000
TZOFFSETTO:+0000
TZNAME:UTC
DTSTART:20230101T000000
END:STANDARD
END:VTIMEZONE
BEGIN:VTIMEZONE
TZID:America/Chicago
BEGIN:DAYLIGHT
TZOFFSETFROM:-0600
TZOFFSETTO:-0500
TZNAME:CDT
DTSTART:20230312T080000
END:DAYLIGHT
BEGIN:STANDARD
TZOFFSETFROM:-0500
TZOFFSETTO:-0600
TZNAME:CST
DTSTART:20231105T070000
END:STANDARD
BEGIN:DAYLIGHT
TZOFFSETFROM:-0600
TZOFFSETTO:-0500
TZNAME:CDT
DTSTART:20240310T080000
END:DAYLIGHT
BEGIN:STANDARD
TZOFFSETFROM:-0500
TZOFFSETTO:-0600
TZNAME:CST
DTSTART:20241103T070000
END:STANDARD
BEGIN:DAYLIGHT
TZOFFSETFROM:-0600
TZOFFSETTO:-0500
TZNAME:CDT
DTSTART:20250309T080000
END:DAYLIGHT
BEGIN:STANDARD
TZOFFSETFROM:-0500
TZOFFSETTO:-0600
TZNAME:CST
DTSTART:20251102T070000
END:STANDARD
END:VTIMEZONE
BEGIN:VEVENT
DTSTART;TZID=UTC:20241124T120000
DTEND;TZID=UTC:20241124T153000
DTSTAMP:20260420T041245
CREATED:20241119T193132Z
LAST-MODIFIED:20241119T193132Z
UID:1954-1732449600-1732462200@www.pebblebayclub.com
SUMMARY:Chiefs vs Panthers Watch Party
DESCRIPTION:The Kansas City Chiefs vs. Carolina Panthers NFL game is set to start at noon. Enjoy the game at Pebble Bay Club.
URL:https://www.pebblebayclub.com/event/chiefs-vs-panthers-watch-party/
LOCATION:Pebble Bay Club Grill\, 100 Pebble Bay Club Drive\, Camdenton\, MO\, 65020\, United States
CATEGORIES:Watch Party
ATTACH;FMTTYPE=image/png:https://www.pebblebayclub.com/wp-content/uploads/Screenshot-455.png
END:VEVENT
BEGIN:VEVENT
DTSTART;TZID=UTC:20241119T110000
DTEND;TZID=UTC:20241119T220000
DTSTAMP:20260420T041245
CREATED:20241104T212552Z
LAST-MODIFIED:20241104T212628Z
UID:1922-1732014000-1732053600@www.pebblebayclub.com
SUMMARY:A Salute to Veterans\, Performance by Kenny Ray Horton
DESCRIPTION:Saturday\, November 19th\, 1-4 pm \nKenny Ray Horton\, Former Lead Singer US Navy Band Country Current – A Salute to Veterans. Free Concert & Signing Autographs After.
URL:https://www.pebblebayclub.com/event/a-salute-to-veterans-performance-by-kenny-ray-horton/
LOCATION:MO
CATEGORIES:Live Music
ATTACH;FMTTYPE=image/png:https://www.pebblebayclub.com/wp-content/uploads/Military-Ad.png
END:VEVENT
BEGIN:VEVENT
DTSTART;TZID=UTC:20241104T190000
DTEND;TZID=UTC:20241104T213000
DTSTAMP:20260420T041245
CREATED:20241104T212227Z
LAST-MODIFIED:20241104T212349Z
UID:1915-1730746800-1730755800@www.pebblebayclub.com
SUMMARY:Chiefs vs. Buccaneers
DESCRIPTION:The Kansas City Chiefs come back home to Arrowhead Stadium to face off against the Tampa Bay Buccanneers. Enjoy this exciting game with us.
URL:https://www.pebblebayclub.com/event/chiefs-vs-buccaneers/
LOCATION:Pebble Bay Club Grill\, 100 Pebble Bay Club Drive\, Camdenton\, MO\, 65020\, United States
CATEGORIES:Watch Party
ATTACH;FMTTYPE=image/png:https://www.pebblebayclub.com/wp-content/uploads/chiefs-game-110424.png
END:VEVENT
BEGIN:VEVENT
DTSTART;TZID=UTC:20241027T150000
DTEND;TZID=UTC:20241027T190000
DTSTAMP:20260420T041245
CREATED:20241024T215235Z
LAST-MODIFIED:20241024T215235Z
UID:1882-1730041200-1730055600@www.pebblebayclub.com
SUMMARY:Kansas City Chiefs vs. Las Vegas Raiders
DESCRIPTION:Our Kansas City Chiefs are battling the Las Vegas Raiders on Sunday.
URL:https://www.pebblebayclub.com/event/kansas-city-chiefs-vs-las-vegas-raiders/
LOCATION:Pebble Bay Club Grill\, 100 Pebble Bay Club Drive\, Camdenton\, MO\, 65020\, United States
CATEGORIES:Watch Party
ATTACH;FMTTYPE=image/png:https://www.pebblebayclub.com/wp-content/uploads/KCvLV.png
END:VEVENT
BEGIN:VEVENT
DTSTART;TZID=UTC:20241026T153000
DTEND;TZID=UTC:20241026T193000
DTSTAMP:20260420T041245
CREATED:20241024T205121Z
LAST-MODIFIED:20241024T205121Z
UID:1879-1729956600-1729971000@www.pebblebayclub.com
SUMMARY:Live Performance by Jon Cain
DESCRIPTION:Relax and enjoy the musical stylings of Jon Cain with a beautiful view of the lake.
URL:https://www.pebblebayclub.com/event/live-performance-by-jon-cain/
LOCATION:Pebble Bay Club Grill\, 100 Pebble Bay Club Drive\, Camdenton\, MO\, 65020\, United States
CATEGORIES:Live Music
ATTACH;FMTTYPE=image/jpeg:https://www.pebblebayclub.com/wp-content/uploads/jon-cain-at-PBC.jpg
END:VEVENT
BEGIN:VEVENT
DTSTART;TZID=America/Chicago:20241026T140000
DTEND;TZID=America/Chicago:20241026T180000
DTSTAMP:20260420T041245
CREATED:20241024T195625Z
LAST-MODIFIED:20241024T195625Z
UID:1872-1729951200-1729965600@www.pebblebayclub.com
SUMMARY:Missouri vs. Alabama Watch Party
DESCRIPTION:The Missouri Tigers face off against the Alabama Crimson Tide.
URL:https://www.pebblebayclub.com/event/missouri-vs-alabama-watch-party/
LOCATION:Pebble Bay Club Grill\, 100 Pebble Bay Club Drive\, Camdenton\, MO\, 65020\, United States
CATEGORIES:Watch Party
ATTACH;FMTTYPE=image/jpeg:https://www.pebblebayclub.com/wp-content/uploads/shutterstock_640272166-scaled.jpg
END:VEVENT
END:VCALENDAR