BEGIN:VCALENDAR
VERSION:2.0
PRODID:-//Pebble Bay Club - Waterfront Lodging and Grille - ECPv6.15.17.1//NONSGML v1.0//EN
CALSCALE:GREGORIAN
METHOD:PUBLISH
X-ORIGINAL-URL:https://www.pebblebayclub.com
X-WR-CALDESC:Events for Pebble Bay Club - Waterfront Lodging and Grille
REFRESH-INTERVAL;VALUE=DURATION:PT1H
X-Robots-Tag:noindex
X-PUBLISHED-TTL:PT1H
BEGIN:VTIMEZONE
TZID:UTC
BEGIN:STANDARD
TZOFFSETFROM:+0000
TZOFFSETTO:+0000
TZNAME:UTC
DTSTART:20240101T000000
END:STANDARD
END:VTIMEZONE
BEGIN:VEVENT
DTSTART;TZID=UTC:20251205T160000
DTEND;TZID=UTC:20251205T190000
DTSTAMP:20260420T070812
CREATED:20251118T204326Z
LAST-MODIFIED:20251118T204326Z
UID:2563-1764950400-1764961200@www.pebblebayclub.com
SUMMARY:First Fridays Business Leader Happy Hour
DESCRIPTION:Pebble Bay Club Grill’s happy hour runs from 4 PM – 7 PM. Join us on the First Friday of every month to get great deals on food and drink\, as well as have a chance to win prizes. Drop your business card in our raffle to enter for a chance to win big at our restaurant.
URL:https://www.pebblebayclub.com/event/first-fridays-business-leader-happy-hour/
LOCATION:Pebble Bay Club Grill\, 100 Pebble Bay Club Drive\, Camdenton\, MO\, 65020\, United States
ATTACH;FMTTYPE=image/jpeg:https://www.pebblebayclub.com/wp-content/uploads/12-5-First-Friday-Drawings.jpg
ORGANIZER;CN="Pebble Bay  Club":MAILTO:info@pebblebayclub.com
END:VEVENT
BEGIN:VEVENT
DTSTART;TZID=UTC:20251206T100000
DTEND;TZID=UTC:20251206T140000
DTSTAMP:20260420T070812
CREATED:20251118T205125Z
LAST-MODIFIED:20251118T205131Z
UID:2566-1765015200-1765029600@www.pebblebayclub.com
SUMMARY:A Visit With Santa Claus
DESCRIPTION:Santa will be making his way down to the Pebble Bay Club and the Pebble Bay Club Grill on Saturday\, December 6th. The halls will be decked with candy canes and FREE hot chocolate for our valued guests and patrons\, as well as every kiddo on Santa’s nice list.
URL:https://www.pebblebayclub.com/event/a-visit-with-santa-claus/
LOCATION:Pebble Bay Club Grill\, 100 Pebble Bay Club Drive\, Camdenton\, MO\, 65020\, United States
CATEGORIES:Holiday Event
ATTACH;FMTTYPE=image/jpeg:https://www.pebblebayclub.com/wp-content/uploads/12-6-Breakfast-With-Santa.jpg
ORGANIZER;CN="Pebble Bay  Club":MAILTO:info@pebblebayclub.com
END:VEVENT
BEGIN:VEVENT
DTSTART;VALUE=DATE:20251207
DTEND;VALUE=DATE:20251208
DTSTAMP:20260420T070812
CREATED:20251118T203449Z
LAST-MODIFIED:20251118T203449Z
UID:2557-1765065600-1765151999@www.pebblebayclub.com
SUMMARY:Sunday Night Football Watch Parties
DESCRIPTION:Every Sunday night\, catch your favorite team’s game at the Pebble Bay Club Grill.
URL:https://www.pebblebayclub.com/event/sunday-night-football-watch-parties-2/
LOCATION:Pebble Bay Club Grill\, 100 Pebble Bay Club Drive\, Camdenton\, MO\, 65020\, United States
CATEGORIES:Game Night
ATTACH;FMTTYPE=image/jpeg:https://www.pebblebayclub.com/wp-content/uploads/11-30-12-7-12-14-12-21-FOOTBALL.jpg
ORGANIZER;CN="Pebble Bay  Club":MAILTO:info@pebblebayclub.com
END:VEVENT
BEGIN:VEVENT
DTSTART;VALUE=DATE:20251214
DTEND;VALUE=DATE:20251215
DTSTAMP:20260420T070812
CREATED:20251118T203550Z
LAST-MODIFIED:20251118T203550Z
UID:2559-1765670400-1765756799@www.pebblebayclub.com
SUMMARY:Sunday Night Football Watch Parties
DESCRIPTION:Every Sunday night\, catch your favorite team’s game at the Pebble Bay Club Grill.
URL:https://www.pebblebayclub.com/event/sunday-night-football-watch-parties-3/
LOCATION:Pebble Bay Club Grill\, 100 Pebble Bay Club Drive\, Camdenton\, MO\, 65020\, United States
CATEGORIES:Game Night,Watch Party
ATTACH;FMTTYPE=image/jpeg:https://www.pebblebayclub.com/wp-content/uploads/11-30-12-7-12-14-12-21-FOOTBALL.jpg
ORGANIZER;CN="Pebble Bay  Club":MAILTO:info@pebblebayclub.com
END:VEVENT
BEGIN:VEVENT
DTSTART;VALUE=DATE:20251221
DTEND;VALUE=DATE:20251222
DTSTAMP:20260420T070812
CREATED:20251118T203655Z
LAST-MODIFIED:20251118T203655Z
UID:2561-1766275200-1766361599@www.pebblebayclub.com
SUMMARY:Sunday Night Football Watch Parties
DESCRIPTION:Every Sunday night\, catch your favorite team’s game at the Pebble Bay Club Grill.
URL:https://www.pebblebayclub.com/event/sunday-night-football-watch-parties-4/
LOCATION:Pebble Bay Club Grill\, 100 Pebble Bay Club Drive\, Camdenton\, MO\, 65020\, United States
CATEGORIES:Watch Party
ATTACH;FMTTYPE=image/jpeg:https://www.pebblebayclub.com/wp-content/uploads/11-30-12-7-12-14-12-21-FOOTBALL.jpg
ORGANIZER;CN="Pebble Bay  Club":MAILTO:info@pebblebayclub.com
END:VEVENT
BEGIN:VEVENT
DTSTART;TZID=UTC:20251224T090000
DTEND;TZID=UTC:20251224T140000
DTSTAMP:20260420T070812
CREATED:20251118T212824Z
LAST-MODIFIED:20251118T213028Z
UID:2569-1766566800-1766584800@www.pebblebayclub.com
SUMMARY:Christmas Eve Brunch
DESCRIPTION:On December 24th from 9 AM – 2 PM\, enjoy a specialty brunch fit for the holiday season. \n*NOTE: A second Bruch Holiday Event is scheduled for January 1st. View it here. 
URL:https://www.pebblebayclub.com/event/christmas-eve-brunch/
LOCATION:Pebble Bay Club Grill\, 100 Pebble Bay Club Drive\, Camdenton\, MO\, 65020\, United States
CATEGORIES:Holiday Event
ATTACH;FMTTYPE=image/jpeg:https://www.pebblebayclub.com/wp-content/uploads/12-31-1-BRUNCH-NY-DAY.jpg
ORGANIZER;CN="Pebble Bay  Club":MAILTO:info@pebblebayclub.com
END:VEVENT
BEGIN:VEVENT
DTSTART;VALUE=DATE:20251231
DTEND;VALUE=DATE:20260101
DTSTAMP:20260420T070812
CREATED:20251118T214226Z
LAST-MODIFIED:20251118T214313Z
UID:2575-1767139200-1767225599@www.pebblebayclub.com
SUMMARY:Pebble Bay Club Grill New Year's Eve 3-Course Dinner
DESCRIPTION:Ring in the New Year at the Pebble Bay Club Grill. Reserve your table for a 3-course dinner with your choice of steak or lobster\, complemented by our chef’s accompaniments & desserts. Top off your dinner with a champagne toast on the house! \nThe 3-course dinner is $69 per person. \nRESERVE YOUR TABLE NOW: \n\nemail: Info@PebbleBayClub.com\ncall: (816) 679-1828\n\nLegendary musician Drew Stevens will perform live music from 8 PM to 11 PM. \n 
URL:https://www.pebblebayclub.com/event/pebble-bay-club-grill-new-years-dinner/
LOCATION:Pebble Bay Club Grill\, 100 Pebble Bay Club Drive\, Camdenton\, MO\, 65020\, United States
CATEGORIES:Holiday Event,Live Music
ATTACH;FMTTYPE=image/jpeg:https://www.pebblebayclub.com/wp-content/uploads/12-31-NY-2026.jpg
ORGANIZER;CN="Pebble Bay  Club":MAILTO:info@pebblebayclub.com
END:VEVENT
BEGIN:VEVENT
DTSTART;TZID=UTC:20260101T090000
DTEND;TZID=UTC:20260101T140000
DTSTAMP:20260420T070812
CREATED:20251118T213001Z
LAST-MODIFIED:20251118T213001Z
UID:2572-1767258000-1767276000@www.pebblebayclub.com
SUMMARY:New Year's Brunch
DESCRIPTION:On January 1st from 9 AM – 2 PM\, enjoy a specialty brunch fit for the holiday season.
URL:https://www.pebblebayclub.com/event/new-years-brunch/
LOCATION:Pebble Bay Club Grill\, 100 Pebble Bay Club Drive\, Camdenton\, MO\, 65020\, United States
CATEGORIES:Holiday Event
ATTACH;FMTTYPE=image/jpeg:https://www.pebblebayclub.com/wp-content/uploads/12-31-1-BRUNCH-NY-DAY.jpg
ORGANIZER;CN="Pebble Bay  Club":MAILTO:info@pebblebayclub.com
END:VEVENT
BEGIN:VEVENT
DTSTART;TZID=UTC:20260208T170000
DTEND;TZID=UTC:20260208T210000
DTSTAMP:20260420T070812
CREATED:20260130T152800Z
LAST-MODIFIED:20260130T152903Z
UID:2600-1770570000-1770584400@www.pebblebayclub.com
SUMMARY:Super Bowl Sunday Watch Party - Seattle Seahawks vs. New England Patriots
DESCRIPTION:The Pebble Bay Club is hosting a Super Bowl Sunday watch party featuring great game-day specials! \nCheck out our great “Buckets and Wings” and other food and drink specials while you join us for the big game. \nKick Off @ 5:30PM
URL:https://www.pebblebayclub.com/event/super-bowl-sunday-watch-party-seattle-seahawks-vs-new-england-patriots/
LOCATION:Pebble Bay Club Grill\, 100 Pebble Bay Club Drive\, Camdenton\, MO\, 65020\, United States
CATEGORIES:Game Night
ATTACH;FMTTYPE=image/jpeg:https://www.pebblebayclub.com/wp-content/uploads/unnamed.jpg
ORGANIZER;CN="Pebble Bay  Club":MAILTO:info@pebblebayclub.com
END:VEVENT
BEGIN:VEVENT
DTSTART;VALUE=DATE:20260214
DTEND;VALUE=DATE:20260215
DTSTAMP:20260420T070812
CREATED:20260130T151950Z
LAST-MODIFIED:20260130T151955Z
UID:2592-1771027200-1771113599@www.pebblebayclub.com
SUMMARY:Valentine's Day 2026 at Pebble Bay Club
DESCRIPTION:Pebble Bay Club would like to invite you to join us as we show off our Chefs\, Terry and Jeff\, with a wonderful evening of gourmet dining and the musical stylings of The Sax Man\, Michael Byington. \n \nPlease call (816) 679-1828 or (573) 317-4999 or email JSweeney@PebbleBayClub.com or Info@PebbleBayClub.com to make your reservation and preferences. \nWe look forward to hosting you and your guests for a relaxing evening celebrating love.
URL:https://www.pebblebayclub.com/event/valentines-day-2026-at-pebble-bay-club/
LOCATION:Pebble Bay Club Grill\, 100 Pebble Bay Club Drive\, Camdenton\, MO\, 65020\, United States
CATEGORIES:Holiday Event,Live Music
ATTACH;FMTTYPE=image/jpeg:https://www.pebblebayclub.com/wp-content/uploads/image5.jpeg
ORGANIZER;CN="Pebble Bay  Club":MAILTO:info@pebblebayclub.com
END:VEVENT
BEGIN:VEVENT
DTSTART;TZID=UTC:20260310T150000
DTEND;TZID=UTC:20260310T180000
DTSTAMP:20260420T070812
CREATED:20260302T211842Z
LAST-MODIFIED:20260302T211842Z
UID:2649-1773154800-1773165600@www.pebblebayclub.com
SUMMARY:Live Music: Michael Byington\, Mother's Day @ Pebble Bay
DESCRIPTION:Celebrate Mother’s Day 2026 at the Pebble Bay Club with a live music performance from Michael Byington on May 10\, from 3:00 PM – 6:00 PM.\nSee Pebble Bay Clubs’ music artist lineup for 2026 HERE.
URL:https://www.pebblebayclub.com/event/live-music-michael-byington-mothers-day-pebble-bay/
LOCATION:Pebble Bay Club Grill\, 100 Pebble Bay Club Drive\, Camdenton\, MO\, 65020\, United States
CATEGORIES:Live Music
ORGANIZER;CN="Pebble Bay  Club":MAILTO:info@pebblebayclub.com
END:VEVENT
BEGIN:VEVENT
DTSTART;TZID=UTC:20260313T080000
DTEND;TZID=UTC:20260317T170000
DTSTAMP:20260420T070812
CREATED:20260130T174003Z
LAST-MODIFIED:20260204T204837Z
UID:2604-1773388800-1773766800@www.pebblebayclub.com
SUMMARY:St. Patrick's Day Celebration Weekend with Live Music!
DESCRIPTION:
URL:https://www.pebblebayclub.com/event/st-patricks-day-celebration-weekend-with-live-music/
LOCATION:Pebble Bay Club Grill\, 100 Pebble Bay Club Drive\, Camdenton\, MO\, 65020\, United States
CATEGORIES:Live Music
ATTACH;FMTTYPE=image/jpeg:https://www.pebblebayclub.com/wp-content/uploads/PBC-2026-StPat-General-1.jpg
ORGANIZER;CN="Pebble Bay  Club":MAILTO:info@pebblebayclub.com
END:VEVENT
BEGIN:VEVENT
DTSTART;TZID=UTC:20260313T150000
DTEND;TZID=UTC:20260313T170000
DTSTAMP:20260420T070812
CREATED:20260302T194621Z
LAST-MODIFIED:20260302T195440Z
UID:2619-1773414000-1773421200@www.pebblebayclub.com
SUMMARY:Live Music: Greg Richter
DESCRIPTION:Experience the renowned Pebble Bay Club atmosphere with the live music performance from Greg Richter on March 13\, from 3:00 PM – 5:00 PM.\nSee Pebble Bay Clubs’ music artist lineup for 2026 HERE. \n \n 
URL:https://www.pebblebayclub.com/event/live-music-greg-richter/
LOCATION:Pebble Bay Club Grill\, 100 Pebble Bay Club Drive\, Camdenton\, MO\, 65020\, United States
CATEGORIES:Live Music
ORGANIZER;CN="Pebble Bay  Club":MAILTO:info@pebblebayclub.com
END:VEVENT
BEGIN:VEVENT
DTSTART;TZID=UTC:20260314T150000
DTEND;TZID=UTC:20260314T170000
DTSTAMP:20260420T070812
CREATED:20260302T195326Z
LAST-MODIFIED:20260310T184616Z
UID:2622-1773500400-1773507600@www.pebblebayclub.com
SUMMARY:Live Music: Greg Richter
DESCRIPTION:Experience the renowned Pebble Bay Club atmosphere with live music performances from Greg Richter on March 14 from 3:00 PM to 5:00 PM.\nSee Pebble Bay Clubs’ music artist lineup for 2026 HERE.
URL:https://www.pebblebayclub.com/event/live-music-greg-richter-art-bentley/
LOCATION:Pebble Bay Club Grill\, 100 Pebble Bay Club Drive\, Camdenton\, MO\, 65020\, United States
CATEGORIES:Live Music
ORGANIZER;CN="Pebble Bay  Club":MAILTO:info@pebblebayclub.com
END:VEVENT
BEGIN:VEVENT
DTSTART;TZID=UTC:20260314T170000
DTEND;TZID=UTC:20260314T200000
DTSTAMP:20260420T070812
CREATED:20260310T184825Z
LAST-MODIFIED:20260310T184825Z
UID:2660-1773507600-1773518400@www.pebblebayclub.com
SUMMARY:Live Music: Art Bentley
DESCRIPTION:Experience the renowned Pebble Bay Club atmosphere with live music performances from Art Bentley on March 14 from 5:00 PM to 8:00 PM.\nSee Pebble Bay Clubs’ music artist lineup for 2026 HERE.
URL:https://www.pebblebayclub.com/event/live-music-art-bentley-2/
LOCATION:Pebble Bay Club Grill\, 100 Pebble Bay Club Drive\, Camdenton\, MO\, 65020\, United States
CATEGORIES:Live Music
ORGANIZER;CN="Pebble Bay  Club":MAILTO:info@pebblebayclub.com
END:VEVENT
BEGIN:VEVENT
DTSTART;TZID=UTC:20260315T160000
DTEND;TZID=UTC:20260315T180000
DTSTAMP:20260420T070812
CREATED:20260302T195755Z
LAST-MODIFIED:20260310T184428Z
UID:2625-1773590400-1773597600@www.pebblebayclub.com
SUMMARY:Live Music: Greg Richter
DESCRIPTION:Experience the renowned Pebble Bay Club atmosphere with the live music performance from Greg Richter on March 15\, from 4:00 PM – 6:00 PM.\nSee Pebble Bay Clubs’ music artist lineup for 2026 HERE.
URL:https://www.pebblebayclub.com/event/live-music-greg-richter-2/
LOCATION:MO
CATEGORIES:Live Music
END:VEVENT
BEGIN:VEVENT
DTSTART;TZID=UTC:20260316T160000
DTEND;TZID=UTC:20260316T180000
DTSTAMP:20260420T070812
CREATED:20260302T195944Z
LAST-MODIFIED:20260302T195944Z
UID:2628-1773676800-1773684000@www.pebblebayclub.com
SUMMARY:Live Music: Greg Richter
DESCRIPTION:Experience the renowned Pebble Bay Club atmosphere with the live music performance from Greg Richter on March 16\, from 4:00 PM – 6:00 PM.\nSee Pebble Bay Clubs’ music artist lineup for 2026 HERE.
URL:https://www.pebblebayclub.com/event/live-music-greg-richter-3/
LOCATION:Pebble Bay Club Grill\, 100 Pebble Bay Club Drive\, Camdenton\, MO\, 65020\, United States
ORGANIZER;CN="Pebble Bay  Club":MAILTO:info@pebblebayclub.com
END:VEVENT
BEGIN:VEVENT
DTSTART;TZID=UTC:20260317T160000
DTEND;TZID=UTC:20260317T180000
DTSTAMP:20260420T070812
CREATED:20260302T200059Z
LAST-MODIFIED:20260302T200059Z
UID:2630-1773763200-1773770400@www.pebblebayclub.com
SUMMARY:Live Music: Greg Richter
DESCRIPTION:Experience the renowned Pebble Bay Club atmosphere with the live music performance from Greg Richter on March 17\, from 4:00 PM – 6:00 PM.\nSee Pebble Bay Clubs’ music artist lineup for 2026 HERE.
URL:https://www.pebblebayclub.com/event/live-music-greg-richter-4/
LOCATION:Pebble Bay Club Grill\, 100 Pebble Bay Club Drive\, Camdenton\, MO\, 65020\, United States
CATEGORIES:Live Music
ORGANIZER;CN="Pebble Bay  Club":MAILTO:info@pebblebayclub.com
END:VEVENT
BEGIN:VEVENT
DTSTART;TZID=UTC:20260404T080000
DTEND;TZID=UTC:20260405T170000
DTSTAMP:20260420T070812
CREATED:20260130T174126Z
LAST-MODIFIED:20260130T174126Z
UID:2606-1775289600-1775408400@www.pebblebayclub.com
SUMMARY:Easter Weekend Celebration Including Easter Brunch
DESCRIPTION:
URL:https://www.pebblebayclub.com/event/easter-weekend-celebration-including-easter-brunch/
LOCATION:Pebble Bay Club Grill\, 100 Pebble Bay Club Drive\, Camdenton\, MO\, 65020\, United States
ORGANIZER;CN="Pebble Bay  Club":MAILTO:info@pebblebayclub.com
END:VEVENT
BEGIN:VEVENT
DTSTART;TZID=UTC:20260405T090000
DTEND;TZID=UTC:20260405T140000
DTSTAMP:20260420T070812
CREATED:20260302T205639Z
LAST-MODIFIED:20260302T205700Z
UID:2635-1775379600-1775397600@www.pebblebayclub.com
SUMMARY:Easter Sunday @ The Pebble Bay Club
DESCRIPTION:Enjoy a Special Easter Sunday at the Pebble Bay Club on April 2\, from 9:00 AM – 2:00 PM. \n 
URL:https://www.pebblebayclub.com/event/easter-sunday-the-pebble-bay-club/
LOCATION:Pebble Bay Club Grill\, 100 Pebble Bay Club Drive\, Camdenton\, MO\, 65020\, United States
CATEGORIES:Holiday Event
ATTACH;FMTTYPE=image/jpeg:https://www.pebblebayclub.com/wp-content/uploads/4-IG-EASTER.jpg
ORGANIZER;CN="Pebble Bay  Club":MAILTO:info@pebblebayclub.com
END:VEVENT
BEGIN:VEVENT
DTSTART;TZID=UTC:20260426T160000
DTEND;TZID=UTC:20260426T190000
DTSTAMP:20260420T070812
CREATED:20260302T203122Z
LAST-MODIFIED:20260310T185121Z
UID:2632-1777219200-1777230000@www.pebblebayclub.com
SUMMARY:Live Music Presentation: Lake of the Ozarks Blues Society FREE Concert
DESCRIPTION:Pebble Bay Club invites you to attend the Lake of the Ozarks Blues Society free concert on April 26\, from 4:00 PM – 7:00 PM.\nThe concert is a benefit for Lake Area Helping Hands. Donations are requested and greatly appreciated. \nSee Pebble Bay Clubs’ music artist lineup for 2026 HERE.
URL:https://www.pebblebayclub.com/event/live-music-presentation-lake-of-the-ozarks-blues-society-free-concert/
LOCATION:Pebble Bay Club Grill\, 100 Pebble Bay Club Drive\, Camdenton\, MO\, 65020\, United States
CATEGORIES:Lake of the Ozarks Event,Live Music
ATTACH;FMTTYPE=image/jpeg:https://www.pebblebayclub.com/wp-content/uploads/Blues-_Charity-Event1.jpg
ORGANIZER;CN="Pebble Bay  Club":MAILTO:info@pebblebayclub.com
END:VEVENT
BEGIN:VEVENT
DTSTART;TZID=UTC:20260502T110000
DTEND;TZID=UTC:20260502T190000
DTSTAMP:20260420T070812
CREATED:20260302T210722Z
LAST-MODIFIED:20260302T210749Z
UID:2640-1777719600-1777748400@www.pebblebayclub.com
SUMMARY:Harbor Hop Summer 2026
DESCRIPTION:
URL:https://www.pebblebayclub.com/event/harbor-hop-2026/
LOCATION:Pebble Bay Club Grill\, 100 Pebble Bay Club Drive\, Camdenton\, MO\, 65020\, United States
CATEGORIES:Lake of the Ozarks Event
ATTACH;FMTTYPE=image/jpeg:https://www.pebblebayclub.com/wp-content/uploads/5-IG-HARBOR-HOP.jpg
ORGANIZER;CN="Pebble Bay  Club":MAILTO:info@pebblebayclub.com
END:VEVENT
BEGIN:VEVENT
DTSTART;TZID=UTC:20260502T150000
DTEND;TZID=UTC:20260502T180000
DTSTAMP:20260420T070812
CREATED:20260302T211134Z
LAST-MODIFIED:20260302T211306Z
UID:2644-1777734000-1777744800@www.pebblebayclub.com
SUMMARY:Live Music: Johnny Henry
DESCRIPTION:Experience the renowned Pebble Bay Club atmosphere with the live music performance from Johnny Henry on May 2\, from 3:00 PM – 6:00 PM.\nHenry will be performing at Pebble Bay Club as part of Harbor Hop Summer 2026 lake-wide event. \nSee Pebble Bay Clubs’ music artist lineup for 2026 HERE.
URL:https://www.pebblebayclub.com/event/live-music-johnny-henry/
LOCATION:Pebble Bay Club Grill\, 100 Pebble Bay Club Drive\, Camdenton\, MO\, 65020\, United States
CATEGORIES:Live Music
ORGANIZER;CN="Pebble Bay  Club":MAILTO:info@pebblebayclub.com
END:VEVENT
BEGIN:VEVENT
DTSTART;TZID=UTC:20260509T150000
DTEND;TZID=UTC:20260509T180000
DTSTAMP:20260420T070812
CREATED:20260302T211528Z
LAST-MODIFIED:20260302T211528Z
UID:2647-1778338800-1778349600@www.pebblebayclub.com
SUMMARY:Live Music: Art Bentley
DESCRIPTION:Experience the renowned Pebble Bay Club atmosphere with the live music performance from Art Bentley on May 9\, from 3:00 PM – 6:00 PM.\nSee Pebble Bay Clubs’ music artist lineup for 2026 HERE.
URL:https://www.pebblebayclub.com/event/live-music-art-bentley/
LOCATION:Pebble Bay Club Grill\, 100 Pebble Bay Club Drive\, Camdenton\, MO\, 65020\, United States
CATEGORIES:Live Music
ORGANIZER;CN="Pebble Bay  Club":MAILTO:info@pebblebayclub.com
END:VEVENT
BEGIN:VEVENT
DTSTART;TZID=UTC:20260516T150000
DTEND;TZID=UTC:20260516T180000
DTSTAMP:20260420T070812
CREATED:20260302T212052Z
LAST-MODIFIED:20260302T212052Z
UID:2651-1778943600-1778954400@www.pebblebayclub.com
SUMMARY:Live Music: David Bennet
DESCRIPTION:Experience the renowned Pebble Bay Club atmosphere with the live music performance from David Bennet on May 16\, from 3:00 PM – 6:00 PM.\nSee Pebble Bay Clubs’ music artist lineup for 2026 HERE.
URL:https://www.pebblebayclub.com/event/live-music-david-bennet/
LOCATION:Pebble Bay Club Grill\, 100 Pebble Bay Club Drive\, Camdenton\, MO\, 65020\, United States
CATEGORIES:Live Music
ORGANIZER;CN="Pebble Bay  Club":MAILTO:info@pebblebayclub.com
END:VEVENT
BEGIN:VEVENT
DTSTART;TZID=UTC:20260523T150000
DTEND;TZID=UTC:20260523T180000
DTSTAMP:20260420T070812
CREATED:20260302T212309Z
LAST-MODIFIED:20260302T212309Z
UID:2653-1779548400-1779559200@www.pebblebayclub.com
SUMMARY:Live Music: Drew Stevens
DESCRIPTION:Experience the renowned Pebble Bay Club atmosphere with the live music performance from Drew Stevens on May 23\, from 3:00 PM – 6:00 PM.\nSee Pebble Bay Clubs’ music artist lineup for 2026 HERE.
URL:https://www.pebblebayclub.com/event/live-music-drew-stevens/
LOCATION:Pebble Bay Club Grill\, 100 Pebble Bay Club Drive\, Camdenton\, MO\, 65020\, United States
CATEGORIES:Live Music
ORGANIZER;CN="Pebble Bay  Club":MAILTO:info@pebblebayclub.com
END:VEVENT
BEGIN:VEVENT
DTSTART;TZID=UTC:20260530T170000
DTEND;TZID=UTC:20260530T200000
DTSTAMP:20260420T070812
CREATED:20260302T212830Z
LAST-MODIFIED:20260302T212830Z
UID:2655-1780160400-1780171200@www.pebblebayclub.com
SUMMARY:Live Music: Marcus Words
DESCRIPTION:Experience the renowned Pebble Bay Club atmosphere with the live music performance from Marcus Words on May 30\, from 5:00 PM – 8:00 PM.\nSee Pebble Bay Clubs’ music artist lineup for 2026 HERE.
URL:https://www.pebblebayclub.com/event/live-music-marcus-words/
LOCATION:Pebble Bay Club Grill\, 100 Pebble Bay Club Drive\, Camdenton\, MO\, 65020\, United States
CATEGORIES:Live Music
ORGANIZER;CN="Pebble Bay  Club":MAILTO:info@pebblebayclub.com
END:VEVENT
END:VCALENDAR