BEGIN:VCALENDAR
VERSION:2.0
PRODID:-//Pebble Bay Club - Waterfront Lodging and Grille - ECPv6.15.17.1//NONSGML v1.0//EN
CALSCALE:GREGORIAN
METHOD:PUBLISH
X-WR-CALNAME:Pebble Bay Club - Waterfront Lodging and Grille
X-ORIGINAL-URL:https://www.pebblebayclub.com
X-WR-CALDESC:Events for Pebble Bay Club - Waterfront Lodging and Grille
REFRESH-INTERVAL;VALUE=DURATION:PT1H
X-Robots-Tag:noindex
X-PUBLISHED-TTL:PT1H
BEGIN:VTIMEZONE
TZID:UTC
BEGIN:STANDARD
TZOFFSETFROM:+0000
TZOFFSETTO:+0000
TZNAME:UTC
DTSTART:20240101T000000
END:STANDARD
END:VTIMEZONE
BEGIN:VEVENT
DTSTART;TZID=UTC:20250610T160000
DTEND;TZID=UTC:20250610T200000
DTSTAMP:20260421T183233
CREATED:20250513T213026Z
LAST-MODIFIED:20250513T213026Z
UID:2337-1749571200-1749585600@www.pebblebayclub.com
SUMMARY:Kids Night @ Pebble Bay Club
DESCRIPTION:Every Tuesday from May 20th through August 19th is Kids Night at Pebble Bay Club. \nCornhole\, Pickleball\, Swimming\, Golf Putt and kids menu specials from 4:00 p.m. – 8 p.m.
URL:https://www.pebblebayclub.com/event/kids-night-pebble-bay-club-2/
LOCATION:Pebble Bay Club Grill\, 100 Pebble Bay Club Drive\, Camdenton\, MO\, 65020\, United States
ATTACH;FMTTYPE=image/jpeg:https://www.pebblebayclub.com/wp-content/uploads/MONTHLY-Kids-Nights.jpg
ORGANIZER;CN="Pebble Bay  Club":MAILTO:info@pebblebayclub.com
END:VEVENT
BEGIN:VEVENT
DTSTART;TZID=UTC:20250610T190000
DTEND;TZID=UTC:20250610T220000
DTSTAMP:20260421T183233
CREATED:20250513T212111Z
LAST-MODIFIED:20250513T212111Z
UID:2327-1749582000-1749592800@www.pebblebayclub.com
SUMMARY:The Blues Jam @ Pebble Bay Club
DESCRIPTION:
URL:https://www.pebblebayclub.com/event/the-blues-jam-pebble-bay-club/
LOCATION:Pebble Bay Club Grill\, 100 Pebble Bay Club Drive\, Camdenton\, MO\, 65020\, United States
CATEGORIES:Live Music
ATTACH;FMTTYPE=image/jpeg:https://www.pebblebayclub.com/wp-content/uploads/6-10-BLUES-JAM.jpg
ORGANIZER;CN="Pebble Bay  Club":MAILTO:info@pebblebayclub.com
END:VEVENT
END:VCALENDAR